BEGIN:VCALENDAR
VERSION:2.0
PRODID:-//ASB - ECPv6.15.15//NONSGML v1.0//EN
CALSCALE:GREGORIAN
METHOD:PUBLISH
X-WR-CALNAME:ASB
X-ORIGINAL-URL:https://inebec.juno.wpspace.me
X-WR-CALDESC:Veranstaltungen für ASB
REFRESH-INTERVAL;VALUE=DURATION:PT1H
X-Robots-Tag:noindex
X-PUBLISHED-TTL:PT1H
BEGIN:VTIMEZONE
TZID:Europe/Helsinki
BEGIN:DAYLIGHT
TZOFFSETFROM:+0200
TZOFFSETTO:+0300
TZNAME:EEST
DTSTART:20250330T010000
END:DAYLIGHT
BEGIN:STANDARD
TZOFFSETFROM:+0300
TZOFFSETTO:+0200
TZNAME:EET
DTSTART:20251026T010000
END:STANDARD
BEGIN:DAYLIGHT
TZOFFSETFROM:+0200
TZOFFSETTO:+0300
TZNAME:EEST
DTSTART:20260329T010000
END:DAYLIGHT
BEGIN:STANDARD
TZOFFSETFROM:+0300
TZOFFSETTO:+0200
TZNAME:EET
DTSTART:20261025T010000
END:STANDARD
BEGIN:DAYLIGHT
TZOFFSETFROM:+0200
TZOFFSETTO:+0300
TZNAME:EEST
DTSTART:20270328T010000
END:DAYLIGHT
BEGIN:STANDARD
TZOFFSETFROM:+0300
TZOFFSETTO:+0200
TZNAME:EET
DTSTART:20271031T010000
END:STANDARD
END:VTIMEZONE
BEGIN:VEVENT
DTSTART;TZID=Europe/Helsinki:20260828T093000
DTEND;TZID=Europe/Helsinki:20260828T103000
DTSTAMP:20260422T135137
CREATED:20250114T084740Z
LAST-MODIFIED:20250114T084741Z
UID:10004931-1787909400-1787913000@inebec.juno.wpspace.me
SUMMARY:Sportgruppe "Mit Sport dabei"
DESCRIPTION:Mehr Informationen
URL:https://inebec.juno.wpspace.me/single-event/sportgruppe-mit-sport-dabei-2-2/2026-08-28/
LOCATION:Bürgertreff Königs Wusterhausen\, Herderstraße 8-9\, Königs Wusterhausen\, 15711
CATEGORIES:Demenz
END:VEVENT
BEGIN:VEVENT
DTSTART;TZID=Europe/Helsinki:20260828T103000
DTEND;TZID=Europe/Helsinki:20260828T113000
DTSTAMP:20260422T135137
CREATED:20250114T084749Z
LAST-MODIFIED:20250114T084749Z
UID:10005191-1787913000-1787916600@inebec.juno.wpspace.me
SUMMARY:Sportgruppe "Mit Sport dabei"
DESCRIPTION:Mehr Informationen
URL:https://inebec.juno.wpspace.me/single-event/sportgruppe-mit-sport-dabei-3/2026-08-28/
LOCATION:Bürgertreff Königs Wusterhausen\, Herderstraße 8-9\, Königs Wusterhausen\, 15711
CATEGORIES:Demenz
END:VEVENT
BEGIN:VEVENT
DTSTART;TZID=Europe/Helsinki:20260901T100000
DTEND;TZID=Europe/Helsinki:20260901T130000
DTSTAMP:20260422T135137
CREATED:20250114T084850Z
LAST-MODIFIED:20250114T084850Z
UID:10005452-1788256800-1788267600@inebec.juno.wpspace.me
SUMMARY:Betreuungsgruppe Menschen mit Demenz
DESCRIPTION:Mehr Informationen
URL:https://inebec.juno.wpspace.me/single-event/betreuungsgruppe-menschen-mit-demenz-2/2026-09-01/
LOCATION:Bürgertreff Königs Wusterhausen\, Herderstraße 8-9\, Königs Wusterhausen\, 15711
CATEGORIES:Demenz
END:VEVENT
BEGIN:VEVENT
DTSTART;TZID=Europe/Helsinki:20260904T093000
DTEND;TZID=Europe/Helsinki:20260904T103000
DTSTAMP:20260422T135137
CREATED:20250114T084740Z
LAST-MODIFIED:20250114T084741Z
UID:10004932-1788514200-1788517800@inebec.juno.wpspace.me
SUMMARY:Sportgruppe "Mit Sport dabei"
DESCRIPTION:Mehr Informationen
URL:https://inebec.juno.wpspace.me/single-event/sportgruppe-mit-sport-dabei-2-2/2026-09-04/
LOCATION:Bürgertreff Königs Wusterhausen\, Herderstraße 8-9\, Königs Wusterhausen\, 15711
CATEGORIES:Demenz
END:VEVENT
BEGIN:VEVENT
DTSTART;TZID=Europe/Helsinki:20260904T103000
DTEND;TZID=Europe/Helsinki:20260904T113000
DTSTAMP:20260422T135137
CREATED:20250114T084749Z
LAST-MODIFIED:20250114T084749Z
UID:10005192-1788517800-1788521400@inebec.juno.wpspace.me
SUMMARY:Sportgruppe "Mit Sport dabei"
DESCRIPTION:Mehr Informationen
URL:https://inebec.juno.wpspace.me/single-event/sportgruppe-mit-sport-dabei-3/2026-09-04/
LOCATION:Bürgertreff Königs Wusterhausen\, Herderstraße 8-9\, Königs Wusterhausen\, 15711
CATEGORIES:Demenz
END:VEVENT
BEGIN:VEVENT
DTSTART;TZID=Europe/Helsinki:20260908T100000
DTEND;TZID=Europe/Helsinki:20260908T130000
DTSTAMP:20260422T135138
CREATED:20250114T084850Z
LAST-MODIFIED:20250114T084850Z
UID:10005453-1788861600-1788872400@inebec.juno.wpspace.me
SUMMARY:Betreuungsgruppe Menschen mit Demenz
DESCRIPTION:Mehr Informationen
URL:https://inebec.juno.wpspace.me/single-event/betreuungsgruppe-menschen-mit-demenz-2/2026-09-08/
LOCATION:Bürgertreff Königs Wusterhausen\, Herderstraße 8-9\, Königs Wusterhausen\, 15711
CATEGORIES:Demenz
END:VEVENT
BEGIN:VEVENT
DTSTART;TZID=Europe/Helsinki:20260911T093000
DTEND;TZID=Europe/Helsinki:20260911T103000
DTSTAMP:20260422T135138
CREATED:20250114T084740Z
LAST-MODIFIED:20250114T084741Z
UID:10004933-1789119000-1789122600@inebec.juno.wpspace.me
SUMMARY:Sportgruppe "Mit Sport dabei"
DESCRIPTION:Mehr Informationen
URL:https://inebec.juno.wpspace.me/single-event/sportgruppe-mit-sport-dabei-2-2/2026-09-11/
LOCATION:Bürgertreff Königs Wusterhausen\, Herderstraße 8-9\, Königs Wusterhausen\, 15711
CATEGORIES:Demenz
END:VEVENT
BEGIN:VEVENT
DTSTART;TZID=Europe/Helsinki:20260911T103000
DTEND;TZID=Europe/Helsinki:20260911T113000
DTSTAMP:20260422T135138
CREATED:20250114T084749Z
LAST-MODIFIED:20250114T084749Z
UID:10005193-1789122600-1789126200@inebec.juno.wpspace.me
SUMMARY:Sportgruppe "Mit Sport dabei"
DESCRIPTION:Mehr Informationen
URL:https://inebec.juno.wpspace.me/single-event/sportgruppe-mit-sport-dabei-3/2026-09-11/
LOCATION:Bürgertreff Königs Wusterhausen\, Herderstraße 8-9\, Königs Wusterhausen\, 15711
CATEGORIES:Demenz
END:VEVENT
BEGIN:VEVENT
DTSTART;TZID=Europe/Helsinki:20260915T100000
DTEND;TZID=Europe/Helsinki:20260915T130000
DTSTAMP:20260422T135138
CREATED:20250114T084850Z
LAST-MODIFIED:20250114T084850Z
UID:10005454-1789466400-1789477200@inebec.juno.wpspace.me
SUMMARY:Betreuungsgruppe Menschen mit Demenz
DESCRIPTION:Mehr Informationen
URL:https://inebec.juno.wpspace.me/single-event/betreuungsgruppe-menschen-mit-demenz-2/2026-09-15/
LOCATION:Bürgertreff Königs Wusterhausen\, Herderstraße 8-9\, Königs Wusterhausen\, 15711
CATEGORIES:Demenz
END:VEVENT
BEGIN:VEVENT
DTSTART;TZID=Europe/Helsinki:20260918T093000
DTEND;TZID=Europe/Helsinki:20260918T103000
DTSTAMP:20260422T135138
CREATED:20250114T084740Z
LAST-MODIFIED:20250114T084741Z
UID:10004934-1789723800-1789727400@inebec.juno.wpspace.me
SUMMARY:Sportgruppe "Mit Sport dabei"
DESCRIPTION:Mehr Informationen
URL:https://inebec.juno.wpspace.me/single-event/sportgruppe-mit-sport-dabei-2-2/2026-09-18/
LOCATION:Bürgertreff Königs Wusterhausen\, Herderstraße 8-9\, Königs Wusterhausen\, 15711
CATEGORIES:Demenz
END:VEVENT
BEGIN:VEVENT
DTSTART;TZID=Europe/Helsinki:20260918T103000
DTEND;TZID=Europe/Helsinki:20260918T113000
DTSTAMP:20260422T135138
CREATED:20250114T084749Z
LAST-MODIFIED:20250114T084749Z
UID:10005194-1789727400-1789731000@inebec.juno.wpspace.me
SUMMARY:Sportgruppe "Mit Sport dabei"
DESCRIPTION:Mehr Informationen
URL:https://inebec.juno.wpspace.me/single-event/sportgruppe-mit-sport-dabei-3/2026-09-18/
LOCATION:Bürgertreff Königs Wusterhausen\, Herderstraße 8-9\, Königs Wusterhausen\, 15711
CATEGORIES:Demenz
END:VEVENT
BEGIN:VEVENT
DTSTART;TZID=Europe/Helsinki:20260922T100000
DTEND;TZID=Europe/Helsinki:20260922T130000
DTSTAMP:20260422T135138
CREATED:20250114T084850Z
LAST-MODIFIED:20250114T084850Z
UID:10005455-1790071200-1790082000@inebec.juno.wpspace.me
SUMMARY:Betreuungsgruppe Menschen mit Demenz
DESCRIPTION:Mehr Informationen
URL:https://inebec.juno.wpspace.me/single-event/betreuungsgruppe-menschen-mit-demenz-2/2026-09-22/
LOCATION:Bürgertreff Königs Wusterhausen\, Herderstraße 8-9\, Königs Wusterhausen\, 15711
CATEGORIES:Demenz
END:VEVENT
BEGIN:VEVENT
DTSTART;TZID=Europe/Helsinki:20260925T093000
DTEND;TZID=Europe/Helsinki:20260925T103000
DTSTAMP:20260422T135138
CREATED:20250114T084740Z
LAST-MODIFIED:20250114T084741Z
UID:10004935-1790328600-1790332200@inebec.juno.wpspace.me
SUMMARY:Sportgruppe "Mit Sport dabei"
DESCRIPTION:Mehr Informationen
URL:https://inebec.juno.wpspace.me/single-event/sportgruppe-mit-sport-dabei-2-2/2026-09-25/
LOCATION:Bürgertreff Königs Wusterhausen\, Herderstraße 8-9\, Königs Wusterhausen\, 15711
CATEGORIES:Demenz
END:VEVENT
BEGIN:VEVENT
DTSTART;TZID=Europe/Helsinki:20260925T103000
DTEND;TZID=Europe/Helsinki:20260925T113000
DTSTAMP:20260422T135138
CREATED:20250114T084749Z
LAST-MODIFIED:20250114T084749Z
UID:10005195-1790332200-1790335800@inebec.juno.wpspace.me
SUMMARY:Sportgruppe "Mit Sport dabei"
DESCRIPTION:Mehr Informationen
URL:https://inebec.juno.wpspace.me/single-event/sportgruppe-mit-sport-dabei-3/2026-09-25/
LOCATION:Bürgertreff Königs Wusterhausen\, Herderstraße 8-9\, Königs Wusterhausen\, 15711
CATEGORIES:Demenz
END:VEVENT
BEGIN:VEVENT
DTSTART;TZID=Europe/Helsinki:20260929T100000
DTEND;TZID=Europe/Helsinki:20260929T130000
DTSTAMP:20260422T135138
CREATED:20250114T084850Z
LAST-MODIFIED:20250114T084850Z
UID:10005456-1790676000-1790686800@inebec.juno.wpspace.me
SUMMARY:Betreuungsgruppe Menschen mit Demenz
DESCRIPTION:Mehr Informationen
URL:https://inebec.juno.wpspace.me/single-event/betreuungsgruppe-menschen-mit-demenz-2/2026-09-29/
LOCATION:Bürgertreff Königs Wusterhausen\, Herderstraße 8-9\, Königs Wusterhausen\, 15711
CATEGORIES:Demenz
END:VEVENT
BEGIN:VEVENT
DTSTART;TZID=Europe/Helsinki:20261002T093000
DTEND;TZID=Europe/Helsinki:20261002T103000
DTSTAMP:20260422T135138
CREATED:20250114T084740Z
LAST-MODIFIED:20250114T084741Z
UID:10004936-1790933400-1790937000@inebec.juno.wpspace.me
SUMMARY:Sportgruppe "Mit Sport dabei"
DESCRIPTION:Mehr Informationen
URL:https://inebec.juno.wpspace.me/single-event/sportgruppe-mit-sport-dabei-2-2/2026-10-02/
LOCATION:Bürgertreff Königs Wusterhausen\, Herderstraße 8-9\, Königs Wusterhausen\, 15711
CATEGORIES:Demenz
END:VEVENT
BEGIN:VEVENT
DTSTART;TZID=Europe/Helsinki:20261002T103000
DTEND;TZID=Europe/Helsinki:20261002T113000
DTSTAMP:20260422T135138
CREATED:20250114T084749Z
LAST-MODIFIED:20250114T084749Z
UID:10005196-1790937000-1790940600@inebec.juno.wpspace.me
SUMMARY:Sportgruppe "Mit Sport dabei"
DESCRIPTION:Mehr Informationen
URL:https://inebec.juno.wpspace.me/single-event/sportgruppe-mit-sport-dabei-3/2026-10-02/
LOCATION:Bürgertreff Königs Wusterhausen\, Herderstraße 8-9\, Königs Wusterhausen\, 15711
CATEGORIES:Demenz
END:VEVENT
BEGIN:VEVENT
DTSTART;TZID=Europe/Helsinki:20261006T100000
DTEND;TZID=Europe/Helsinki:20261006T130000
DTSTAMP:20260422T135138
CREATED:20250114T084850Z
LAST-MODIFIED:20250114T084850Z
UID:10005457-1791280800-1791291600@inebec.juno.wpspace.me
SUMMARY:Betreuungsgruppe Menschen mit Demenz
DESCRIPTION:Mehr Informationen
URL:https://inebec.juno.wpspace.me/single-event/betreuungsgruppe-menschen-mit-demenz-2/2026-10-06/
LOCATION:Bürgertreff Königs Wusterhausen\, Herderstraße 8-9\, Königs Wusterhausen\, 15711
CATEGORIES:Demenz
END:VEVENT
BEGIN:VEVENT
DTSTART;TZID=Europe/Helsinki:20261009T093000
DTEND;TZID=Europe/Helsinki:20261009T103000
DTSTAMP:20260422T135138
CREATED:20250114T084740Z
LAST-MODIFIED:20250114T084741Z
UID:10004937-1791538200-1791541800@inebec.juno.wpspace.me
SUMMARY:Sportgruppe "Mit Sport dabei"
DESCRIPTION:Mehr Informationen
URL:https://inebec.juno.wpspace.me/single-event/sportgruppe-mit-sport-dabei-2-2/2026-10-09/
LOCATION:Bürgertreff Königs Wusterhausen\, Herderstraße 8-9\, Königs Wusterhausen\, 15711
CATEGORIES:Demenz
END:VEVENT
BEGIN:VEVENT
DTSTART;TZID=Europe/Helsinki:20261009T103000
DTEND;TZID=Europe/Helsinki:20261009T113000
DTSTAMP:20260422T135138
CREATED:20250114T084749Z
LAST-MODIFIED:20250114T084749Z
UID:10005197-1791541800-1791545400@inebec.juno.wpspace.me
SUMMARY:Sportgruppe "Mit Sport dabei"
DESCRIPTION:Mehr Informationen
URL:https://inebec.juno.wpspace.me/single-event/sportgruppe-mit-sport-dabei-3/2026-10-09/
LOCATION:Bürgertreff Königs Wusterhausen\, Herderstraße 8-9\, Königs Wusterhausen\, 15711
CATEGORIES:Demenz
END:VEVENT
BEGIN:VEVENT
DTSTART;TZID=Europe/Helsinki:20261013T100000
DTEND;TZID=Europe/Helsinki:20261013T130000
DTSTAMP:20260422T135138
CREATED:20250114T084850Z
LAST-MODIFIED:20250114T084850Z
UID:10005458-1791885600-1791896400@inebec.juno.wpspace.me
SUMMARY:Betreuungsgruppe Menschen mit Demenz
DESCRIPTION:Mehr Informationen
URL:https://inebec.juno.wpspace.me/single-event/betreuungsgruppe-menschen-mit-demenz-2/2026-10-13/
LOCATION:Bürgertreff Königs Wusterhausen\, Herderstraße 8-9\, Königs Wusterhausen\, 15711
CATEGORIES:Demenz
END:VEVENT
BEGIN:VEVENT
DTSTART;TZID=Europe/Helsinki:20261016T093000
DTEND;TZID=Europe/Helsinki:20261016T103000
DTSTAMP:20260422T135138
CREATED:20250114T084740Z
LAST-MODIFIED:20250114T084741Z
UID:10004938-1792143000-1792146600@inebec.juno.wpspace.me
SUMMARY:Sportgruppe "Mit Sport dabei"
DESCRIPTION:Mehr Informationen
URL:https://inebec.juno.wpspace.me/single-event/sportgruppe-mit-sport-dabei-2-2/2026-10-16/
LOCATION:Bürgertreff Königs Wusterhausen\, Herderstraße 8-9\, Königs Wusterhausen\, 15711
CATEGORIES:Demenz
END:VEVENT
BEGIN:VEVENT
DTSTART;TZID=Europe/Helsinki:20261016T103000
DTEND;TZID=Europe/Helsinki:20261016T113000
DTSTAMP:20260422T135138
CREATED:20250114T084749Z
LAST-MODIFIED:20250114T084749Z
UID:10005198-1792146600-1792150200@inebec.juno.wpspace.me
SUMMARY:Sportgruppe "Mit Sport dabei"
DESCRIPTION:Mehr Informationen
URL:https://inebec.juno.wpspace.me/single-event/sportgruppe-mit-sport-dabei-3/2026-10-16/
LOCATION:Bürgertreff Königs Wusterhausen\, Herderstraße 8-9\, Königs Wusterhausen\, 15711
CATEGORIES:Demenz
END:VEVENT
BEGIN:VEVENT
DTSTART;TZID=Europe/Helsinki:20261020T100000
DTEND;TZID=Europe/Helsinki:20261020T130000
DTSTAMP:20260422T135138
CREATED:20250114T084850Z
LAST-MODIFIED:20250114T084850Z
UID:10005459-1792490400-1792501200@inebec.juno.wpspace.me
SUMMARY:Betreuungsgruppe Menschen mit Demenz
DESCRIPTION:Mehr Informationen
URL:https://inebec.juno.wpspace.me/single-event/betreuungsgruppe-menschen-mit-demenz-2/2026-10-20/
LOCATION:Bürgertreff Königs Wusterhausen\, Herderstraße 8-9\, Königs Wusterhausen\, 15711
CATEGORIES:Demenz
END:VEVENT
BEGIN:VEVENT
DTSTART;TZID=Europe/Helsinki:20261023T093000
DTEND;TZID=Europe/Helsinki:20261023T103000
DTSTAMP:20260422T135138
CREATED:20250114T084740Z
LAST-MODIFIED:20250114T084741Z
UID:10004939-1792747800-1792751400@inebec.juno.wpspace.me
SUMMARY:Sportgruppe "Mit Sport dabei"
DESCRIPTION:Mehr Informationen
URL:https://inebec.juno.wpspace.me/single-event/sportgruppe-mit-sport-dabei-2-2/2026-10-23/
LOCATION:Bürgertreff Königs Wusterhausen\, Herderstraße 8-9\, Königs Wusterhausen\, 15711
CATEGORIES:Demenz
END:VEVENT
BEGIN:VEVENT
DTSTART;TZID=Europe/Helsinki:20261023T103000
DTEND;TZID=Europe/Helsinki:20261023T113000
DTSTAMP:20260422T135138
CREATED:20250114T084749Z
LAST-MODIFIED:20250114T084749Z
UID:10005199-1792751400-1792755000@inebec.juno.wpspace.me
SUMMARY:Sportgruppe "Mit Sport dabei"
DESCRIPTION:Mehr Informationen
URL:https://inebec.juno.wpspace.me/single-event/sportgruppe-mit-sport-dabei-3/2026-10-23/
LOCATION:Bürgertreff Königs Wusterhausen\, Herderstraße 8-9\, Königs Wusterhausen\, 15711
CATEGORIES:Demenz
END:VEVENT
BEGIN:VEVENT
DTSTART;TZID=Europe/Helsinki:20261027T100000
DTEND;TZID=Europe/Helsinki:20261027T130000
DTSTAMP:20260422T135138
CREATED:20250114T084850Z
LAST-MODIFIED:20250114T084850Z
UID:10005460-1793095200-1793106000@inebec.juno.wpspace.me
SUMMARY:Betreuungsgruppe Menschen mit Demenz
DESCRIPTION:Mehr Informationen
URL:https://inebec.juno.wpspace.me/single-event/betreuungsgruppe-menschen-mit-demenz-2/2026-10-27/
LOCATION:Bürgertreff Königs Wusterhausen\, Herderstraße 8-9\, Königs Wusterhausen\, 15711
CATEGORIES:Demenz
END:VEVENT
BEGIN:VEVENT
DTSTART;TZID=Europe/Helsinki:20261030T093000
DTEND;TZID=Europe/Helsinki:20261030T103000
DTSTAMP:20260422T135138
CREATED:20250114T084740Z
LAST-MODIFIED:20250114T084741Z
UID:10004940-1793352600-1793356200@inebec.juno.wpspace.me
SUMMARY:Sportgruppe "Mit Sport dabei"
DESCRIPTION:Mehr Informationen
URL:https://inebec.juno.wpspace.me/single-event/sportgruppe-mit-sport-dabei-2-2/2026-10-30/
LOCATION:Bürgertreff Königs Wusterhausen\, Herderstraße 8-9\, Königs Wusterhausen\, 15711
CATEGORIES:Demenz
END:VEVENT
BEGIN:VEVENT
DTSTART;TZID=Europe/Helsinki:20261030T103000
DTEND;TZID=Europe/Helsinki:20261030T113000
DTSTAMP:20260422T135138
CREATED:20250114T084749Z
LAST-MODIFIED:20250114T084749Z
UID:10005200-1793356200-1793359800@inebec.juno.wpspace.me
SUMMARY:Sportgruppe "Mit Sport dabei"
DESCRIPTION:Mehr Informationen
URL:https://inebec.juno.wpspace.me/single-event/sportgruppe-mit-sport-dabei-3/2026-10-30/
LOCATION:Bürgertreff Königs Wusterhausen\, Herderstraße 8-9\, Königs Wusterhausen\, 15711
CATEGORIES:Demenz
END:VEVENT
BEGIN:VEVENT
DTSTART;TZID=Europe/Helsinki:20261103T100000
DTEND;TZID=Europe/Helsinki:20261103T130000
DTSTAMP:20260422T135138
CREATED:20250114T084850Z
LAST-MODIFIED:20250114T084850Z
UID:10005461-1793700000-1793710800@inebec.juno.wpspace.me
SUMMARY:Betreuungsgruppe Menschen mit Demenz
DESCRIPTION:Mehr Informationen
URL:https://inebec.juno.wpspace.me/single-event/betreuungsgruppe-menschen-mit-demenz-2/2026-11-03/
LOCATION:Bürgertreff Königs Wusterhausen\, Herderstraße 8-9\, Königs Wusterhausen\, 15711
CATEGORIES:Demenz
END:VEVENT
END:VCALENDAR