BEGIN:VCALENDAR
VERSION:2.0
PRODID:-//ASB - ECPv6.15.15//NONSGML v1.0//EN
CALSCALE:GREGORIAN
METHOD:PUBLISH
X-ORIGINAL-URL:https://inebec.juno.wpspace.me
X-WR-CALDESC:Veranstaltungen für ASB
REFRESH-INTERVAL;VALUE=DURATION:PT1H
X-Robots-Tag:noindex
X-PUBLISHED-TTL:PT1H
BEGIN:VTIMEZONE
TZID:Europe/Helsinki
BEGIN:DAYLIGHT
TZOFFSETFROM:+0200
TZOFFSETTO:+0300
TZNAME:EEST
DTSTART:20250330T010000
END:DAYLIGHT
BEGIN:STANDARD
TZOFFSETFROM:+0300
TZOFFSETTO:+0200
TZNAME:EET
DTSTART:20251026T010000
END:STANDARD
BEGIN:DAYLIGHT
TZOFFSETFROM:+0200
TZOFFSETTO:+0300
TZNAME:EEST
DTSTART:20260329T010000
END:DAYLIGHT
BEGIN:STANDARD
TZOFFSETFROM:+0300
TZOFFSETTO:+0200
TZNAME:EET
DTSTART:20261025T010000
END:STANDARD
BEGIN:DAYLIGHT
TZOFFSETFROM:+0200
TZOFFSETTO:+0300
TZNAME:EEST
DTSTART:20270328T010000
END:DAYLIGHT
BEGIN:STANDARD
TZOFFSETFROM:+0300
TZOFFSETTO:+0200
TZNAME:EET
DTSTART:20271031T010000
END:STANDARD
END:VTIMEZONE
BEGIN:VEVENT
DTSTART;TZID=Europe/Helsinki:20260421T100000
DTEND;TZID=Europe/Helsinki:20260421T130000
DTSTAMP:20260419T221049
CREATED:20250114T084850Z
LAST-MODIFIED:20250114T084850Z
UID:10005433-1776765600-1776776400@inebec.juno.wpspace.me
SUMMARY:Betreuungsgruppe Menschen mit Demenz
DESCRIPTION:Mehr Informationen
URL:https://inebec.juno.wpspace.me/single-event/betreuungsgruppe-menschen-mit-demenz-2/2026-04-21/
LOCATION:Bürgertreff Königs Wusterhausen\, Herderstraße 8-9\, Königs Wusterhausen\, 15711
CATEGORIES:Demenz
END:VEVENT
BEGIN:VEVENT
DTSTART;TZID=Europe/Helsinki:20260424T093000
DTEND;TZID=Europe/Helsinki:20260424T103000
DTSTAMP:20260419T221049
CREATED:20250114T084740Z
LAST-MODIFIED:20250114T084741Z
UID:10004913-1777023000-1777026600@inebec.juno.wpspace.me
SUMMARY:Sportgruppe "Mit Sport dabei"
DESCRIPTION:Mehr Informationen
URL:https://inebec.juno.wpspace.me/single-event/sportgruppe-mit-sport-dabei-2-2/2026-04-24/
LOCATION:Bürgertreff Königs Wusterhausen\, Herderstraße 8-9\, Königs Wusterhausen\, 15711
CATEGORIES:Demenz
END:VEVENT
BEGIN:VEVENT
DTSTART;TZID=Europe/Helsinki:20260424T103000
DTEND;TZID=Europe/Helsinki:20260424T113000
DTSTAMP:20260419T221049
CREATED:20250114T084749Z
LAST-MODIFIED:20250114T084749Z
UID:10005173-1777026600-1777030200@inebec.juno.wpspace.me
SUMMARY:Sportgruppe "Mit Sport dabei"
DESCRIPTION:Mehr Informationen
URL:https://inebec.juno.wpspace.me/single-event/sportgruppe-mit-sport-dabei-3/2026-04-24/
LOCATION:Bürgertreff Königs Wusterhausen\, Herderstraße 8-9\, Königs Wusterhausen\, 15711
CATEGORIES:Demenz
END:VEVENT
BEGIN:VEVENT
DTSTART;TZID=Europe/Helsinki:20260428T100000
DTEND;TZID=Europe/Helsinki:20260428T130000
DTSTAMP:20260419T221049
CREATED:20250114T084850Z
LAST-MODIFIED:20250114T084850Z
UID:10005434-1777370400-1777381200@inebec.juno.wpspace.me
SUMMARY:Betreuungsgruppe Menschen mit Demenz
DESCRIPTION:Mehr Informationen
URL:https://inebec.juno.wpspace.me/single-event/betreuungsgruppe-menschen-mit-demenz-2/2026-04-28/
LOCATION:Bürgertreff Königs Wusterhausen\, Herderstraße 8-9\, Königs Wusterhausen\, 15711
CATEGORIES:Demenz
END:VEVENT
BEGIN:VEVENT
DTSTART;TZID=Europe/Helsinki:20260501T093000
DTEND;TZID=Europe/Helsinki:20260501T103000
DTSTAMP:20260419T221049
CREATED:20250114T084740Z
LAST-MODIFIED:20250114T084741Z
UID:10004914-1777627800-1777631400@inebec.juno.wpspace.me
SUMMARY:Sportgruppe "Mit Sport dabei"
DESCRIPTION:Mehr Informationen
URL:https://inebec.juno.wpspace.me/single-event/sportgruppe-mit-sport-dabei-2-2/2026-05-01/
LOCATION:Bürgertreff Königs Wusterhausen\, Herderstraße 8-9\, Königs Wusterhausen\, 15711
CATEGORIES:Demenz
END:VEVENT
BEGIN:VEVENT
DTSTART;TZID=Europe/Helsinki:20260501T103000
DTEND;TZID=Europe/Helsinki:20260501T113000
DTSTAMP:20260419T221049
CREATED:20250114T084749Z
LAST-MODIFIED:20250114T084749Z
UID:10005174-1777631400-1777635000@inebec.juno.wpspace.me
SUMMARY:Sportgruppe "Mit Sport dabei"
DESCRIPTION:Mehr Informationen
URL:https://inebec.juno.wpspace.me/single-event/sportgruppe-mit-sport-dabei-3/2026-05-01/
LOCATION:Bürgertreff Königs Wusterhausen\, Herderstraße 8-9\, Königs Wusterhausen\, 15711
CATEGORIES:Demenz
END:VEVENT
BEGIN:VEVENT
DTSTART;TZID=Europe/Helsinki:20260505T100000
DTEND;TZID=Europe/Helsinki:20260505T130000
DTSTAMP:20260419T221049
CREATED:20250114T084850Z
LAST-MODIFIED:20250114T084850Z
UID:10005435-1777975200-1777986000@inebec.juno.wpspace.me
SUMMARY:Betreuungsgruppe Menschen mit Demenz
DESCRIPTION:Mehr Informationen
URL:https://inebec.juno.wpspace.me/single-event/betreuungsgruppe-menschen-mit-demenz-2/2026-05-05/
LOCATION:Bürgertreff Königs Wusterhausen\, Herderstraße 8-9\, Königs Wusterhausen\, 15711
CATEGORIES:Demenz
END:VEVENT
BEGIN:VEVENT
DTSTART;TZID=Europe/Helsinki:20260508T093000
DTEND;TZID=Europe/Helsinki:20260508T103000
DTSTAMP:20260419T221049
CREATED:20250114T084740Z
LAST-MODIFIED:20250114T084741Z
UID:10004915-1778232600-1778236200@inebec.juno.wpspace.me
SUMMARY:Sportgruppe "Mit Sport dabei"
DESCRIPTION:Mehr Informationen
URL:https://inebec.juno.wpspace.me/single-event/sportgruppe-mit-sport-dabei-2-2/2026-05-08/
LOCATION:Bürgertreff Königs Wusterhausen\, Herderstraße 8-9\, Königs Wusterhausen\, 15711
CATEGORIES:Demenz
END:VEVENT
BEGIN:VEVENT
DTSTART;TZID=Europe/Helsinki:20260508T103000
DTEND;TZID=Europe/Helsinki:20260508T113000
DTSTAMP:20260419T221049
CREATED:20250114T084749Z
LAST-MODIFIED:20250114T084749Z
UID:10005175-1778236200-1778239800@inebec.juno.wpspace.me
SUMMARY:Sportgruppe "Mit Sport dabei"
DESCRIPTION:Mehr Informationen
URL:https://inebec.juno.wpspace.me/single-event/sportgruppe-mit-sport-dabei-3/2026-05-08/
LOCATION:Bürgertreff Königs Wusterhausen\, Herderstraße 8-9\, Königs Wusterhausen\, 15711
CATEGORIES:Demenz
END:VEVENT
BEGIN:VEVENT
DTSTART;TZID=Europe/Helsinki:20260512T100000
DTEND;TZID=Europe/Helsinki:20260512T130000
DTSTAMP:20260419T221049
CREATED:20250114T084850Z
LAST-MODIFIED:20250114T084850Z
UID:10005436-1778580000-1778590800@inebec.juno.wpspace.me
SUMMARY:Betreuungsgruppe Menschen mit Demenz
DESCRIPTION:Mehr Informationen
URL:https://inebec.juno.wpspace.me/single-event/betreuungsgruppe-menschen-mit-demenz-2/2026-05-12/
LOCATION:Bürgertreff Königs Wusterhausen\, Herderstraße 8-9\, Königs Wusterhausen\, 15711
CATEGORIES:Demenz
END:VEVENT
BEGIN:VEVENT
DTSTART;TZID=Europe/Helsinki:20260515T093000
DTEND;TZID=Europe/Helsinki:20260515T103000
DTSTAMP:20260419T221049
CREATED:20250114T084740Z
LAST-MODIFIED:20250114T084741Z
UID:10004916-1778837400-1778841000@inebec.juno.wpspace.me
SUMMARY:Sportgruppe "Mit Sport dabei"
DESCRIPTION:Mehr Informationen
URL:https://inebec.juno.wpspace.me/single-event/sportgruppe-mit-sport-dabei-2-2/2026-05-15/
LOCATION:Bürgertreff Königs Wusterhausen\, Herderstraße 8-9\, Königs Wusterhausen\, 15711
CATEGORIES:Demenz
END:VEVENT
BEGIN:VEVENT
DTSTART;TZID=Europe/Helsinki:20260515T103000
DTEND;TZID=Europe/Helsinki:20260515T113000
DTSTAMP:20260419T221049
CREATED:20250114T084749Z
LAST-MODIFIED:20250114T084749Z
UID:10005176-1778841000-1778844600@inebec.juno.wpspace.me
SUMMARY:Sportgruppe "Mit Sport dabei"
DESCRIPTION:Mehr Informationen
URL:https://inebec.juno.wpspace.me/single-event/sportgruppe-mit-sport-dabei-3/2026-05-15/
LOCATION:Bürgertreff Königs Wusterhausen\, Herderstraße 8-9\, Königs Wusterhausen\, 15711
CATEGORIES:Demenz
END:VEVENT
BEGIN:VEVENT
DTSTART;TZID=Europe/Helsinki:20260519T100000
DTEND;TZID=Europe/Helsinki:20260519T130000
DTSTAMP:20260419T221049
CREATED:20250114T084850Z
LAST-MODIFIED:20250114T084850Z
UID:10005437-1779184800-1779195600@inebec.juno.wpspace.me
SUMMARY:Betreuungsgruppe Menschen mit Demenz
DESCRIPTION:Mehr Informationen
URL:https://inebec.juno.wpspace.me/single-event/betreuungsgruppe-menschen-mit-demenz-2/2026-05-19/
LOCATION:Bürgertreff Königs Wusterhausen\, Herderstraße 8-9\, Königs Wusterhausen\, 15711
CATEGORIES:Demenz
END:VEVENT
BEGIN:VEVENT
DTSTART;TZID=Europe/Helsinki:20260522T093000
DTEND;TZID=Europe/Helsinki:20260522T103000
DTSTAMP:20260419T221049
CREATED:20250114T084740Z
LAST-MODIFIED:20250114T084741Z
UID:10004917-1779442200-1779445800@inebec.juno.wpspace.me
SUMMARY:Sportgruppe "Mit Sport dabei"
DESCRIPTION:Mehr Informationen
URL:https://inebec.juno.wpspace.me/single-event/sportgruppe-mit-sport-dabei-2-2/2026-05-22/
LOCATION:Bürgertreff Königs Wusterhausen\, Herderstraße 8-9\, Königs Wusterhausen\, 15711
CATEGORIES:Demenz
END:VEVENT
BEGIN:VEVENT
DTSTART;TZID=Europe/Helsinki:20260522T103000
DTEND;TZID=Europe/Helsinki:20260522T113000
DTSTAMP:20260419T221049
CREATED:20250114T084749Z
LAST-MODIFIED:20250114T084749Z
UID:10005177-1779445800-1779449400@inebec.juno.wpspace.me
SUMMARY:Sportgruppe "Mit Sport dabei"
DESCRIPTION:Mehr Informationen
URL:https://inebec.juno.wpspace.me/single-event/sportgruppe-mit-sport-dabei-3/2026-05-22/
LOCATION:Bürgertreff Königs Wusterhausen\, Herderstraße 8-9\, Königs Wusterhausen\, 15711
CATEGORIES:Demenz
END:VEVENT
BEGIN:VEVENT
DTSTART;TZID=Europe/Helsinki:20260526T100000
DTEND;TZID=Europe/Helsinki:20260526T130000
DTSTAMP:20260419T221049
CREATED:20250114T084850Z
LAST-MODIFIED:20250114T084850Z
UID:10005438-1779789600-1779800400@inebec.juno.wpspace.me
SUMMARY:Betreuungsgruppe Menschen mit Demenz
DESCRIPTION:Mehr Informationen
URL:https://inebec.juno.wpspace.me/single-event/betreuungsgruppe-menschen-mit-demenz-2/2026-05-26/
LOCATION:Bürgertreff Königs Wusterhausen\, Herderstraße 8-9\, Königs Wusterhausen\, 15711
CATEGORIES:Demenz
END:VEVENT
BEGIN:VEVENT
DTSTART;TZID=Europe/Helsinki:20260529T093000
DTEND;TZID=Europe/Helsinki:20260529T103000
DTSTAMP:20260419T221049
CREATED:20250114T084740Z
LAST-MODIFIED:20250114T084741Z
UID:10004918-1780047000-1780050600@inebec.juno.wpspace.me
SUMMARY:Sportgruppe "Mit Sport dabei"
DESCRIPTION:Mehr Informationen
URL:https://inebec.juno.wpspace.me/single-event/sportgruppe-mit-sport-dabei-2-2/2026-05-29/
LOCATION:Bürgertreff Königs Wusterhausen\, Herderstraße 8-9\, Königs Wusterhausen\, 15711
CATEGORIES:Demenz
END:VEVENT
BEGIN:VEVENT
DTSTART;TZID=Europe/Helsinki:20260529T103000
DTEND;TZID=Europe/Helsinki:20260529T113000
DTSTAMP:20260419T221049
CREATED:20250114T084749Z
LAST-MODIFIED:20250114T084749Z
UID:10005178-1780050600-1780054200@inebec.juno.wpspace.me
SUMMARY:Sportgruppe "Mit Sport dabei"
DESCRIPTION:Mehr Informationen
URL:https://inebec.juno.wpspace.me/single-event/sportgruppe-mit-sport-dabei-3/2026-05-29/
LOCATION:Bürgertreff Königs Wusterhausen\, Herderstraße 8-9\, Königs Wusterhausen\, 15711
CATEGORIES:Demenz
END:VEVENT
BEGIN:VEVENT
DTSTART;TZID=Europe/Helsinki:20260602T100000
DTEND;TZID=Europe/Helsinki:20260602T130000
DTSTAMP:20260419T221049
CREATED:20250114T084850Z
LAST-MODIFIED:20250114T084850Z
UID:10005439-1780394400-1780405200@inebec.juno.wpspace.me
SUMMARY:Betreuungsgruppe Menschen mit Demenz
DESCRIPTION:Mehr Informationen
URL:https://inebec.juno.wpspace.me/single-event/betreuungsgruppe-menschen-mit-demenz-2/2026-06-02/
LOCATION:Bürgertreff Königs Wusterhausen\, Herderstraße 8-9\, Königs Wusterhausen\, 15711
CATEGORIES:Demenz
END:VEVENT
BEGIN:VEVENT
DTSTART;TZID=Europe/Helsinki:20260605T093000
DTEND;TZID=Europe/Helsinki:20260605T103000
DTSTAMP:20260419T221049
CREATED:20250114T084740Z
LAST-MODIFIED:20250114T084741Z
UID:10004919-1780651800-1780655400@inebec.juno.wpspace.me
SUMMARY:Sportgruppe "Mit Sport dabei"
DESCRIPTION:Mehr Informationen
URL:https://inebec.juno.wpspace.me/single-event/sportgruppe-mit-sport-dabei-2-2/2026-06-05/
LOCATION:Bürgertreff Königs Wusterhausen\, Herderstraße 8-9\, Königs Wusterhausen\, 15711
CATEGORIES:Demenz
END:VEVENT
BEGIN:VEVENT
DTSTART;TZID=Europe/Helsinki:20260605T103000
DTEND;TZID=Europe/Helsinki:20260605T113000
DTSTAMP:20260419T221049
CREATED:20250114T084749Z
LAST-MODIFIED:20250114T084749Z
UID:10005179-1780655400-1780659000@inebec.juno.wpspace.me
SUMMARY:Sportgruppe "Mit Sport dabei"
DESCRIPTION:Mehr Informationen
URL:https://inebec.juno.wpspace.me/single-event/sportgruppe-mit-sport-dabei-3/2026-06-05/
LOCATION:Bürgertreff Königs Wusterhausen\, Herderstraße 8-9\, Königs Wusterhausen\, 15711
CATEGORIES:Demenz
END:VEVENT
BEGIN:VEVENT
DTSTART;TZID=Europe/Helsinki:20260609T100000
DTEND;TZID=Europe/Helsinki:20260609T130000
DTSTAMP:20260419T221049
CREATED:20250114T084850Z
LAST-MODIFIED:20250114T084850Z
UID:10005440-1780999200-1781010000@inebec.juno.wpspace.me
SUMMARY:Betreuungsgruppe Menschen mit Demenz
DESCRIPTION:Mehr Informationen
URL:https://inebec.juno.wpspace.me/single-event/betreuungsgruppe-menschen-mit-demenz-2/2026-06-09/
LOCATION:Bürgertreff Königs Wusterhausen\, Herderstraße 8-9\, Königs Wusterhausen\, 15711
CATEGORIES:Demenz
END:VEVENT
BEGIN:VEVENT
DTSTART;TZID=Europe/Helsinki:20260612T093000
DTEND;TZID=Europe/Helsinki:20260612T103000
DTSTAMP:20260419T221049
CREATED:20250114T084740Z
LAST-MODIFIED:20250114T084741Z
UID:10004920-1781256600-1781260200@inebec.juno.wpspace.me
SUMMARY:Sportgruppe "Mit Sport dabei"
DESCRIPTION:Mehr Informationen
URL:https://inebec.juno.wpspace.me/single-event/sportgruppe-mit-sport-dabei-2-2/2026-06-12/
LOCATION:Bürgertreff Königs Wusterhausen\, Herderstraße 8-9\, Königs Wusterhausen\, 15711
CATEGORIES:Demenz
END:VEVENT
BEGIN:VEVENT
DTSTART;TZID=Europe/Helsinki:20260612T103000
DTEND;TZID=Europe/Helsinki:20260612T113000
DTSTAMP:20260419T221049
CREATED:20250114T084749Z
LAST-MODIFIED:20250114T084749Z
UID:10005180-1781260200-1781263800@inebec.juno.wpspace.me
SUMMARY:Sportgruppe "Mit Sport dabei"
DESCRIPTION:Mehr Informationen
URL:https://inebec.juno.wpspace.me/single-event/sportgruppe-mit-sport-dabei-3/2026-06-12/
LOCATION:Bürgertreff Königs Wusterhausen\, Herderstraße 8-9\, Königs Wusterhausen\, 15711
CATEGORIES:Demenz
END:VEVENT
BEGIN:VEVENT
DTSTART;TZID=Europe/Helsinki:20260616T100000
DTEND;TZID=Europe/Helsinki:20260616T130000
DTSTAMP:20260419T221049
CREATED:20250114T084850Z
LAST-MODIFIED:20250114T084850Z
UID:10005441-1781604000-1781614800@inebec.juno.wpspace.me
SUMMARY:Betreuungsgruppe Menschen mit Demenz
DESCRIPTION:Mehr Informationen
URL:https://inebec.juno.wpspace.me/single-event/betreuungsgruppe-menschen-mit-demenz-2/2026-06-16/
LOCATION:Bürgertreff Königs Wusterhausen\, Herderstraße 8-9\, Königs Wusterhausen\, 15711
CATEGORIES:Demenz
END:VEVENT
BEGIN:VEVENT
DTSTART;TZID=Europe/Helsinki:20260619T093000
DTEND;TZID=Europe/Helsinki:20260619T103000
DTSTAMP:20260419T221049
CREATED:20250114T084740Z
LAST-MODIFIED:20250114T084741Z
UID:10004921-1781861400-1781865000@inebec.juno.wpspace.me
SUMMARY:Sportgruppe "Mit Sport dabei"
DESCRIPTION:Mehr Informationen
URL:https://inebec.juno.wpspace.me/single-event/sportgruppe-mit-sport-dabei-2-2/2026-06-19/
LOCATION:Bürgertreff Königs Wusterhausen\, Herderstraße 8-9\, Königs Wusterhausen\, 15711
CATEGORIES:Demenz
END:VEVENT
BEGIN:VEVENT
DTSTART;TZID=Europe/Helsinki:20260619T103000
DTEND;TZID=Europe/Helsinki:20260619T113000
DTSTAMP:20260419T221049
CREATED:20250114T084749Z
LAST-MODIFIED:20250114T084749Z
UID:10005181-1781865000-1781868600@inebec.juno.wpspace.me
SUMMARY:Sportgruppe "Mit Sport dabei"
DESCRIPTION:Mehr Informationen
URL:https://inebec.juno.wpspace.me/single-event/sportgruppe-mit-sport-dabei-3/2026-06-19/
LOCATION:Bürgertreff Königs Wusterhausen\, Herderstraße 8-9\, Königs Wusterhausen\, 15711
CATEGORIES:Demenz
END:VEVENT
BEGIN:VEVENT
DTSTART;TZID=Europe/Helsinki:20260623T100000
DTEND;TZID=Europe/Helsinki:20260623T130000
DTSTAMP:20260419T221049
CREATED:20250114T084850Z
LAST-MODIFIED:20250114T084850Z
UID:10005442-1782208800-1782219600@inebec.juno.wpspace.me
SUMMARY:Betreuungsgruppe Menschen mit Demenz
DESCRIPTION:Mehr Informationen
URL:https://inebec.juno.wpspace.me/single-event/betreuungsgruppe-menschen-mit-demenz-2/2026-06-23/
LOCATION:Bürgertreff Königs Wusterhausen\, Herderstraße 8-9\, Königs Wusterhausen\, 15711
CATEGORIES:Demenz
END:VEVENT
BEGIN:VEVENT
DTSTART;TZID=Europe/Helsinki:20260626T093000
DTEND;TZID=Europe/Helsinki:20260626T103000
DTSTAMP:20260419T221049
CREATED:20250114T084740Z
LAST-MODIFIED:20250114T084741Z
UID:10004922-1782466200-1782469800@inebec.juno.wpspace.me
SUMMARY:Sportgruppe "Mit Sport dabei"
DESCRIPTION:Mehr Informationen
URL:https://inebec.juno.wpspace.me/single-event/sportgruppe-mit-sport-dabei-2-2/2026-06-26/
LOCATION:Bürgertreff Königs Wusterhausen\, Herderstraße 8-9\, Königs Wusterhausen\, 15711
CATEGORIES:Demenz
END:VEVENT
BEGIN:VEVENT
DTSTART;TZID=Europe/Helsinki:20260626T103000
DTEND;TZID=Europe/Helsinki:20260626T113000
DTSTAMP:20260419T221049
CREATED:20250114T084749Z
LAST-MODIFIED:20250114T084749Z
UID:10005182-1782469800-1782473400@inebec.juno.wpspace.me
SUMMARY:Sportgruppe "Mit Sport dabei"
DESCRIPTION:Mehr Informationen
URL:https://inebec.juno.wpspace.me/single-event/sportgruppe-mit-sport-dabei-3/2026-06-26/
LOCATION:Bürgertreff Königs Wusterhausen\, Herderstraße 8-9\, Königs Wusterhausen\, 15711
CATEGORIES:Demenz
END:VEVENT
END:VCALENDAR