BEGIN:VCALENDAR
VERSION:2.0
PRODID:-//ASB - ECPv6.15.15//NONSGML v1.0//EN
CALSCALE:GREGORIAN
METHOD:PUBLISH
X-WR-CALNAME:ASB
X-ORIGINAL-URL:https://inebec.juno.wpspace.me
X-WR-CALDESC:Veranstaltungen für ASB
REFRESH-INTERVAL;VALUE=DURATION:PT1H
X-Robots-Tag:noindex
X-PUBLISHED-TTL:PT1H
BEGIN:VTIMEZONE
TZID:Europe/Helsinki
BEGIN:DAYLIGHT
TZOFFSETFROM:+0200
TZOFFSETTO:+0300
TZNAME:EEST
DTSTART:20250330T010000
END:DAYLIGHT
BEGIN:STANDARD
TZOFFSETFROM:+0300
TZOFFSETTO:+0200
TZNAME:EET
DTSTART:20251026T010000
END:STANDARD
BEGIN:DAYLIGHT
TZOFFSETFROM:+0200
TZOFFSETTO:+0300
TZNAME:EEST
DTSTART:20260329T010000
END:DAYLIGHT
BEGIN:STANDARD
TZOFFSETFROM:+0300
TZOFFSETTO:+0200
TZNAME:EET
DTSTART:20261025T010000
END:STANDARD
BEGIN:DAYLIGHT
TZOFFSETFROM:+0200
TZOFFSETTO:+0300
TZNAME:EEST
DTSTART:20270328T010000
END:DAYLIGHT
BEGIN:STANDARD
TZOFFSETFROM:+0300
TZOFFSETTO:+0200
TZNAME:EET
DTSTART:20271031T010000
END:STANDARD
BEGIN:DAYLIGHT
TZOFFSETFROM:+0200
TZOFFSETTO:+0300
TZNAME:EEST
DTSTART:20280326T010000
END:DAYLIGHT
BEGIN:STANDARD
TZOFFSETFROM:+0300
TZOFFSETTO:+0200
TZNAME:EET
DTSTART:20281029T010000
END:STANDARD
END:VTIMEZONE
BEGIN:VEVENT
DTSTART;TZID=Europe/Helsinki:20260507T170000
DTEND;TZID=Europe/Helsinki:20260507T190000
DTSTAMP:20260419T223433
CREATED:20250114T084422Z
LAST-MODIFIED:20250114T084422Z
UID:10004803-1778173200-1778180400@inebec.juno.wpspace.me
SUMMARY:Angehörigengruppe Menschen mit Demenz
DESCRIPTION:Mehr Informationen
URL:https://inebec.juno.wpspace.me/single-event/angehoerigengruppe-menschen-mit-demenz-3/2026-05-07/
CATEGORIES:Demenz
END:VEVENT
BEGIN:VEVENT
DTSTART;TZID=Europe/Helsinki:20260521T120000
DTEND;TZID=Europe/Helsinki:20260521T140000
DTSTAMP:20260419T223433
CREATED:20250114T084142Z
LAST-MODIFIED:20250114T084142Z
UID:10004744-1779364800-1779372000@inebec.juno.wpspace.me
SUMMARY:Angehörigengruppe Menschen mit Demenz
DESCRIPTION:Mehr Informationen
URL:https://inebec.juno.wpspace.me/single-event/angehoerigengruppe-menschen-mit-demenz-2/2026-05-21/
CATEGORIES:Demenz
END:VEVENT
BEGIN:VEVENT
DTSTART;TZID=Europe/Helsinki:20260604T170000
DTEND;TZID=Europe/Helsinki:20260604T190000
DTSTAMP:20260419T223433
CREATED:20250114T084422Z
LAST-MODIFIED:20250114T084422Z
UID:10004804-1780592400-1780599600@inebec.juno.wpspace.me
SUMMARY:Angehörigengruppe Menschen mit Demenz
DESCRIPTION:Mehr Informationen
URL:https://inebec.juno.wpspace.me/single-event/angehoerigengruppe-menschen-mit-demenz-3/2026-06-04/
CATEGORIES:Demenz
END:VEVENT
BEGIN:VEVENT
DTSTART;TZID=Europe/Helsinki:20260618T120000
DTEND;TZID=Europe/Helsinki:20260618T140000
DTSTAMP:20260419T223433
CREATED:20250114T084142Z
LAST-MODIFIED:20250114T084142Z
UID:10004745-1781784000-1781791200@inebec.juno.wpspace.me
SUMMARY:Angehörigengruppe Menschen mit Demenz
DESCRIPTION:Mehr Informationen
URL:https://inebec.juno.wpspace.me/single-event/angehoerigengruppe-menschen-mit-demenz-2/2026-06-18/
CATEGORIES:Demenz
END:VEVENT
BEGIN:VEVENT
DTSTART;TZID=Europe/Helsinki:20260702T170000
DTEND;TZID=Europe/Helsinki:20260702T190000
DTSTAMP:20260419T223433
CREATED:20250114T084422Z
LAST-MODIFIED:20250114T084422Z
UID:10004805-1783011600-1783018800@inebec.juno.wpspace.me
SUMMARY:Angehörigengruppe Menschen mit Demenz
DESCRIPTION:Mehr Informationen
URL:https://inebec.juno.wpspace.me/single-event/angehoerigengruppe-menschen-mit-demenz-3/2026-07-02/
CATEGORIES:Demenz
END:VEVENT
BEGIN:VEVENT
DTSTART;TZID=Europe/Helsinki:20260716T120000
DTEND;TZID=Europe/Helsinki:20260716T140000
DTSTAMP:20260419T223433
CREATED:20250114T084142Z
LAST-MODIFIED:20250114T084142Z
UID:10004746-1784203200-1784210400@inebec.juno.wpspace.me
SUMMARY:Angehörigengruppe Menschen mit Demenz
DESCRIPTION:Mehr Informationen
URL:https://inebec.juno.wpspace.me/single-event/angehoerigengruppe-menschen-mit-demenz-2/2026-07-16/
CATEGORIES:Demenz
END:VEVENT
BEGIN:VEVENT
DTSTART;TZID=Europe/Helsinki:20260806T170000
DTEND;TZID=Europe/Helsinki:20260806T190000
DTSTAMP:20260419T223433
CREATED:20250114T084422Z
LAST-MODIFIED:20250114T084422Z
UID:10004806-1786035600-1786042800@inebec.juno.wpspace.me
SUMMARY:Angehörigengruppe Menschen mit Demenz
DESCRIPTION:Mehr Informationen
URL:https://inebec.juno.wpspace.me/single-event/angehoerigengruppe-menschen-mit-demenz-3/2026-08-06/
CATEGORIES:Demenz
END:VEVENT
BEGIN:VEVENT
DTSTART;TZID=Europe/Helsinki:20260820T120000
DTEND;TZID=Europe/Helsinki:20260820T140000
DTSTAMP:20260419T223433
CREATED:20250114T084142Z
LAST-MODIFIED:20250114T084142Z
UID:10004747-1787227200-1787234400@inebec.juno.wpspace.me
SUMMARY:Angehörigengruppe Menschen mit Demenz
DESCRIPTION:Mehr Informationen
URL:https://inebec.juno.wpspace.me/single-event/angehoerigengruppe-menschen-mit-demenz-2/2026-08-20/
CATEGORIES:Demenz
END:VEVENT
BEGIN:VEVENT
DTSTART;TZID=Europe/Helsinki:20260903T170000
DTEND;TZID=Europe/Helsinki:20260903T190000
DTSTAMP:20260419T223433
CREATED:20250114T084422Z
LAST-MODIFIED:20250114T084422Z
UID:10004807-1788454800-1788462000@inebec.juno.wpspace.me
SUMMARY:Angehörigengruppe Menschen mit Demenz
DESCRIPTION:Mehr Informationen
URL:https://inebec.juno.wpspace.me/single-event/angehoerigengruppe-menschen-mit-demenz-3/2026-09-03/
CATEGORIES:Demenz
END:VEVENT
BEGIN:VEVENT
DTSTART;TZID=Europe/Helsinki:20260917T120000
DTEND;TZID=Europe/Helsinki:20260917T140000
DTSTAMP:20260419T223433
CREATED:20250114T084142Z
LAST-MODIFIED:20250114T084142Z
UID:10004748-1789646400-1789653600@inebec.juno.wpspace.me
SUMMARY:Angehörigengruppe Menschen mit Demenz
DESCRIPTION:Mehr Informationen
URL:https://inebec.juno.wpspace.me/single-event/angehoerigengruppe-menschen-mit-demenz-2/2026-09-17/
CATEGORIES:Demenz
END:VEVENT
BEGIN:VEVENT
DTSTART;TZID=Europe/Helsinki:20261001T170000
DTEND;TZID=Europe/Helsinki:20261001T190000
DTSTAMP:20260419T223433
CREATED:20250114T084422Z
LAST-MODIFIED:20250114T084422Z
UID:10004808-1790874000-1790881200@inebec.juno.wpspace.me
SUMMARY:Angehörigengruppe Menschen mit Demenz
DESCRIPTION:Mehr Informationen
URL:https://inebec.juno.wpspace.me/single-event/angehoerigengruppe-menschen-mit-demenz-3/2026-10-01/
CATEGORIES:Demenz
END:VEVENT
BEGIN:VEVENT
DTSTART;TZID=Europe/Helsinki:20261015T120000
DTEND;TZID=Europe/Helsinki:20261015T140000
DTSTAMP:20260419T223433
CREATED:20250114T084142Z
LAST-MODIFIED:20250114T084142Z
UID:10004749-1792065600-1792072800@inebec.juno.wpspace.me
SUMMARY:Angehörigengruppe Menschen mit Demenz
DESCRIPTION:Mehr Informationen
URL:https://inebec.juno.wpspace.me/single-event/angehoerigengruppe-menschen-mit-demenz-2/2026-10-15/
CATEGORIES:Demenz
END:VEVENT
BEGIN:VEVENT
DTSTART;TZID=Europe/Helsinki:20261105T170000
DTEND;TZID=Europe/Helsinki:20261105T190000
DTSTAMP:20260419T223433
CREATED:20250114T084422Z
LAST-MODIFIED:20250114T084422Z
UID:10004809-1793898000-1793905200@inebec.juno.wpspace.me
SUMMARY:Angehörigengruppe Menschen mit Demenz
DESCRIPTION:Mehr Informationen
URL:https://inebec.juno.wpspace.me/single-event/angehoerigengruppe-menschen-mit-demenz-3/2026-11-05/
CATEGORIES:Demenz
END:VEVENT
BEGIN:VEVENT
DTSTART;TZID=Europe/Helsinki:20261119T120000
DTEND;TZID=Europe/Helsinki:20261119T140000
DTSTAMP:20260419T223433
CREATED:20250114T084142Z
LAST-MODIFIED:20250114T084142Z
UID:10004750-1795089600-1795096800@inebec.juno.wpspace.me
SUMMARY:Angehörigengruppe Menschen mit Demenz
DESCRIPTION:Mehr Informationen
URL:https://inebec.juno.wpspace.me/single-event/angehoerigengruppe-menschen-mit-demenz-2/2026-11-19/
CATEGORIES:Demenz
END:VEVENT
BEGIN:VEVENT
DTSTART;TZID=Europe/Helsinki:20261203T170000
DTEND;TZID=Europe/Helsinki:20261203T190000
DTSTAMP:20260419T223433
CREATED:20250114T084422Z
LAST-MODIFIED:20250114T084422Z
UID:10004810-1796317200-1796324400@inebec.juno.wpspace.me
SUMMARY:Angehörigengruppe Menschen mit Demenz
DESCRIPTION:Mehr Informationen
URL:https://inebec.juno.wpspace.me/single-event/angehoerigengruppe-menschen-mit-demenz-3/2026-12-03/
CATEGORIES:Demenz
END:VEVENT
BEGIN:VEVENT
DTSTART;TZID=Europe/Helsinki:20261217T120000
DTEND;TZID=Europe/Helsinki:20261217T140000
DTSTAMP:20260419T223433
CREATED:20250114T084142Z
LAST-MODIFIED:20250114T084142Z
UID:10004751-1797508800-1797516000@inebec.juno.wpspace.me
SUMMARY:Angehörigengruppe Menschen mit Demenz
DESCRIPTION:Mehr Informationen
URL:https://inebec.juno.wpspace.me/single-event/angehoerigengruppe-menschen-mit-demenz-2/2026-12-17/
CATEGORIES:Demenz
END:VEVENT
BEGIN:VEVENT
DTSTART;TZID=Europe/Helsinki:20270107T170000
DTEND;TZID=Europe/Helsinki:20270107T190000
DTSTAMP:20260419T223433
CREATED:20250114T084422Z
LAST-MODIFIED:20250114T084422Z
UID:10004811-1799341200-1799348400@inebec.juno.wpspace.me
SUMMARY:Angehörigengruppe Menschen mit Demenz
DESCRIPTION:Mehr Informationen
URL:https://inebec.juno.wpspace.me/single-event/angehoerigengruppe-menschen-mit-demenz-3/2027-01-07/
CATEGORIES:Demenz
END:VEVENT
BEGIN:VEVENT
DTSTART;TZID=Europe/Helsinki:20270121T120000
DTEND;TZID=Europe/Helsinki:20270121T140000
DTSTAMP:20260419T223433
CREATED:20250114T084142Z
LAST-MODIFIED:20250114T084142Z
UID:10004752-1800532800-1800540000@inebec.juno.wpspace.me
SUMMARY:Angehörigengruppe Menschen mit Demenz
DESCRIPTION:Mehr Informationen
URL:https://inebec.juno.wpspace.me/single-event/angehoerigengruppe-menschen-mit-demenz-2/2027-01-21/
CATEGORIES:Demenz
END:VEVENT
BEGIN:VEVENT
DTSTART;TZID=Europe/Helsinki:20270204T170000
DTEND;TZID=Europe/Helsinki:20270204T190000
DTSTAMP:20260419T223433
CREATED:20250114T084422Z
LAST-MODIFIED:20250114T084422Z
UID:10004812-1801760400-1801767600@inebec.juno.wpspace.me
SUMMARY:Angehörigengruppe Menschen mit Demenz
DESCRIPTION:Mehr Informationen
URL:https://inebec.juno.wpspace.me/single-event/angehoerigengruppe-menschen-mit-demenz-3/2027-02-04/
CATEGORIES:Demenz
END:VEVENT
BEGIN:VEVENT
DTSTART;TZID=Europe/Helsinki:20270218T120000
DTEND;TZID=Europe/Helsinki:20270218T140000
DTSTAMP:20260419T223433
CREATED:20250114T084142Z
LAST-MODIFIED:20250114T084142Z
UID:10004753-1802952000-1802959200@inebec.juno.wpspace.me
SUMMARY:Angehörigengruppe Menschen mit Demenz
DESCRIPTION:Mehr Informationen
URL:https://inebec.juno.wpspace.me/single-event/angehoerigengruppe-menschen-mit-demenz-2/2027-02-18/
CATEGORIES:Demenz
END:VEVENT
BEGIN:VEVENT
DTSTART;TZID=Europe/Helsinki:20270304T170000
DTEND;TZID=Europe/Helsinki:20270304T190000
DTSTAMP:20260419T223433
CREATED:20250114T084422Z
LAST-MODIFIED:20250114T084422Z
UID:10004813-1804179600-1804186800@inebec.juno.wpspace.me
SUMMARY:Angehörigengruppe Menschen mit Demenz
DESCRIPTION:Mehr Informationen
URL:https://inebec.juno.wpspace.me/single-event/angehoerigengruppe-menschen-mit-demenz-3/2027-03-04/
CATEGORIES:Demenz
END:VEVENT
BEGIN:VEVENT
DTSTART;TZID=Europe/Helsinki:20270318T120000
DTEND;TZID=Europe/Helsinki:20270318T140000
DTSTAMP:20260419T223433
CREATED:20250114T084142Z
LAST-MODIFIED:20250114T084142Z
UID:10004754-1805371200-1805378400@inebec.juno.wpspace.me
SUMMARY:Angehörigengruppe Menschen mit Demenz
DESCRIPTION:Mehr Informationen
URL:https://inebec.juno.wpspace.me/single-event/angehoerigengruppe-menschen-mit-demenz-2/2027-03-18/
CATEGORIES:Demenz
END:VEVENT
BEGIN:VEVENT
DTSTART;TZID=Europe/Helsinki:20270401T170000
DTEND;TZID=Europe/Helsinki:20270401T190000
DTSTAMP:20260419T223433
CREATED:20250114T084422Z
LAST-MODIFIED:20250114T084422Z
UID:10004814-1806598800-1806606000@inebec.juno.wpspace.me
SUMMARY:Angehörigengruppe Menschen mit Demenz
DESCRIPTION:Mehr Informationen
URL:https://inebec.juno.wpspace.me/single-event/angehoerigengruppe-menschen-mit-demenz-3/2027-04-01/
CATEGORIES:Demenz
END:VEVENT
BEGIN:VEVENT
DTSTART;TZID=Europe/Helsinki:20270415T120000
DTEND;TZID=Europe/Helsinki:20270415T140000
DTSTAMP:20260419T223433
CREATED:20250114T084142Z
LAST-MODIFIED:20250114T084142Z
UID:10004755-1807790400-1807797600@inebec.juno.wpspace.me
SUMMARY:Angehörigengruppe Menschen mit Demenz
DESCRIPTION:Mehr Informationen
URL:https://inebec.juno.wpspace.me/single-event/angehoerigengruppe-menschen-mit-demenz-2/2027-04-15/
CATEGORIES:Demenz
END:VEVENT
BEGIN:VEVENT
DTSTART;TZID=Europe/Helsinki:20270506T170000
DTEND;TZID=Europe/Helsinki:20270506T190000
DTSTAMP:20260419T223433
CREATED:20250114T084422Z
LAST-MODIFIED:20250114T084422Z
UID:10004815-1809622800-1809630000@inebec.juno.wpspace.me
SUMMARY:Angehörigengruppe Menschen mit Demenz
DESCRIPTION:Mehr Informationen
URL:https://inebec.juno.wpspace.me/single-event/angehoerigengruppe-menschen-mit-demenz-3/2027-05-06/
CATEGORIES:Demenz
END:VEVENT
BEGIN:VEVENT
DTSTART;TZID=Europe/Helsinki:20270520T120000
DTEND;TZID=Europe/Helsinki:20270520T140000
DTSTAMP:20260419T223433
CREATED:20250114T084142Z
LAST-MODIFIED:20250114T084142Z
UID:10004756-1810814400-1810821600@inebec.juno.wpspace.me
SUMMARY:Angehörigengruppe Menschen mit Demenz
DESCRIPTION:Mehr Informationen
URL:https://inebec.juno.wpspace.me/single-event/angehoerigengruppe-menschen-mit-demenz-2/2027-05-20/
CATEGORIES:Demenz
END:VEVENT
BEGIN:VEVENT
DTSTART;TZID=Europe/Helsinki:20270603T170000
DTEND;TZID=Europe/Helsinki:20270603T190000
DTSTAMP:20260419T223433
CREATED:20250114T084422Z
LAST-MODIFIED:20250114T084422Z
UID:10004816-1812042000-1812049200@inebec.juno.wpspace.me
SUMMARY:Angehörigengruppe Menschen mit Demenz
DESCRIPTION:Mehr Informationen
URL:https://inebec.juno.wpspace.me/single-event/angehoerigengruppe-menschen-mit-demenz-3/2027-06-03/
CATEGORIES:Demenz
END:VEVENT
BEGIN:VEVENT
DTSTART;TZID=Europe/Helsinki:20270617T120000
DTEND;TZID=Europe/Helsinki:20270617T140000
DTSTAMP:20260419T223433
CREATED:20250114T084142Z
LAST-MODIFIED:20250114T084142Z
UID:10004757-1813233600-1813240800@inebec.juno.wpspace.me
SUMMARY:Angehörigengruppe Menschen mit Demenz
DESCRIPTION:Mehr Informationen
URL:https://inebec.juno.wpspace.me/single-event/angehoerigengruppe-menschen-mit-demenz-2/2027-06-17/
CATEGORIES:Demenz
END:VEVENT
BEGIN:VEVENT
DTSTART;TZID=Europe/Helsinki:20270701T170000
DTEND;TZID=Europe/Helsinki:20270701T190000
DTSTAMP:20260419T223433
CREATED:20250114T084422Z
LAST-MODIFIED:20250114T084422Z
UID:10004817-1814461200-1814468400@inebec.juno.wpspace.me
SUMMARY:Angehörigengruppe Menschen mit Demenz
DESCRIPTION:Mehr Informationen
URL:https://inebec.juno.wpspace.me/single-event/angehoerigengruppe-menschen-mit-demenz-3/2027-07-01/
CATEGORIES:Demenz
END:VEVENT
BEGIN:VEVENT
DTSTART;TZID=Europe/Helsinki:20270715T120000
DTEND;TZID=Europe/Helsinki:20270715T140000
DTSTAMP:20260419T223433
CREATED:20250114T084142Z
LAST-MODIFIED:20250114T084142Z
UID:10004758-1815652800-1815660000@inebec.juno.wpspace.me
SUMMARY:Angehörigengruppe Menschen mit Demenz
DESCRIPTION:Mehr Informationen
URL:https://inebec.juno.wpspace.me/single-event/angehoerigengruppe-menschen-mit-demenz-2/2027-07-15/
CATEGORIES:Demenz
END:VEVENT
END:VCALENDAR