BEGIN:VCALENDAR
VERSION:2.0
PRODID:-//ASB - ECPv6.15.15//NONSGML v1.0//EN
CALSCALE:GREGORIAN
METHOD:PUBLISH
X-ORIGINAL-URL:https://inebec.juno.wpspace.me
X-WR-CALDESC:Veranstaltungen für ASB
REFRESH-INTERVAL;VALUE=DURATION:PT1H
X-Robots-Tag:noindex
X-PUBLISHED-TTL:PT1H
BEGIN:VTIMEZONE
TZID:Europe/Helsinki
BEGIN:DAYLIGHT
TZOFFSETFROM:+0200
TZOFFSETTO:+0300
TZNAME:EEST
DTSTART:20250330T010000
END:DAYLIGHT
BEGIN:STANDARD
TZOFFSETFROM:+0300
TZOFFSETTO:+0200
TZNAME:EET
DTSTART:20251026T010000
END:STANDARD
BEGIN:DAYLIGHT
TZOFFSETFROM:+0200
TZOFFSETTO:+0300
TZNAME:EEST
DTSTART:20260329T010000
END:DAYLIGHT
BEGIN:STANDARD
TZOFFSETFROM:+0300
TZOFFSETTO:+0200
TZNAME:EET
DTSTART:20261025T010000
END:STANDARD
BEGIN:DAYLIGHT
TZOFFSETFROM:+0200
TZOFFSETTO:+0300
TZNAME:EEST
DTSTART:20270328T010000
END:DAYLIGHT
BEGIN:STANDARD
TZOFFSETFROM:+0300
TZOFFSETTO:+0200
TZNAME:EET
DTSTART:20271031T010000
END:STANDARD
END:VTIMEZONE
BEGIN:VEVENT
DTSTART;TZID=Europe/Helsinki:20260101T170000
DTEND;TZID=Europe/Helsinki:20260101T190000
DTSTAMP:20260420T012546
CREATED:20250114T084422Z
LAST-MODIFIED:20250114T084422Z
UID:10004799-1767286800-1767294000@inebec.juno.wpspace.me
SUMMARY:Angehörigengruppe Menschen mit Demenz
DESCRIPTION:Mehr Informationen
URL:https://inebec.juno.wpspace.me/single-event/angehoerigengruppe-menschen-mit-demenz-3/2026-01-01/
LOCATION:Brandenburg
CATEGORIES:Demenz
END:VEVENT
BEGIN:VEVENT
DTSTART;TZID=Europe/Helsinki:20260102T093000
DTEND;TZID=Europe/Helsinki:20260102T103000
DTSTAMP:20260420T012546
CREATED:20250114T084740Z
LAST-MODIFIED:20250114T084741Z
UID:10004897-1767346200-1767349800@inebec.juno.wpspace.me
SUMMARY:Sportgruppe "Mit Sport dabei"
DESCRIPTION:Mehr Informationen
URL:https://inebec.juno.wpspace.me/single-event/sportgruppe-mit-sport-dabei-2-2/2026-01-02/
LOCATION:Bürgertreff Königs Wusterhausen\, Herderstraße 8-9\, Königs Wusterhausen\, 15711
CATEGORIES:Demenz
END:VEVENT
BEGIN:VEVENT
DTSTART;TZID=Europe/Helsinki:20260102T103000
DTEND;TZID=Europe/Helsinki:20260102T113000
DTSTAMP:20260420T012546
CREATED:20250114T084749Z
LAST-MODIFIED:20250114T084749Z
UID:10005157-1767349800-1767353400@inebec.juno.wpspace.me
SUMMARY:Sportgruppe "Mit Sport dabei"
DESCRIPTION:Mehr Informationen
URL:https://inebec.juno.wpspace.me/single-event/sportgruppe-mit-sport-dabei-3/2026-01-02/
LOCATION:Bürgertreff Königs Wusterhausen\, Herderstraße 8-9\, Königs Wusterhausen\, 15711
CATEGORIES:Demenz
END:VEVENT
BEGIN:VEVENT
DTSTART;TZID=Europe/Helsinki:20260106T100000
DTEND;TZID=Europe/Helsinki:20260106T130000
DTSTAMP:20260420T012546
CREATED:20250114T084850Z
LAST-MODIFIED:20250114T084850Z
UID:10005418-1767693600-1767704400@inebec.juno.wpspace.me
SUMMARY:Betreuungsgruppe Menschen mit Demenz
DESCRIPTION:Mehr Informationen
URL:https://inebec.juno.wpspace.me/single-event/betreuungsgruppe-menschen-mit-demenz-2/2026-01-06/
LOCATION:Bürgertreff Königs Wusterhausen\, Herderstraße 8-9\, Königs Wusterhausen\, 15711
CATEGORIES:Demenz
END:VEVENT
BEGIN:VEVENT
DTSTART;TZID=Europe/Helsinki:20260109T093000
DTEND;TZID=Europe/Helsinki:20260109T103000
DTSTAMP:20260420T012546
CREATED:20250114T084740Z
LAST-MODIFIED:20250114T084741Z
UID:10004898-1767951000-1767954600@inebec.juno.wpspace.me
SUMMARY:Sportgruppe "Mit Sport dabei"
DESCRIPTION:Mehr Informationen
URL:https://inebec.juno.wpspace.me/single-event/sportgruppe-mit-sport-dabei-2-2/2026-01-09/
LOCATION:Bürgertreff Königs Wusterhausen\, Herderstraße 8-9\, Königs Wusterhausen\, 15711
CATEGORIES:Demenz
END:VEVENT
BEGIN:VEVENT
DTSTART;TZID=Europe/Helsinki:20260109T103000
DTEND;TZID=Europe/Helsinki:20260109T113000
DTSTAMP:20260420T012546
CREATED:20250114T084749Z
LAST-MODIFIED:20250114T084749Z
UID:10005158-1767954600-1767958200@inebec.juno.wpspace.me
SUMMARY:Sportgruppe "Mit Sport dabei"
DESCRIPTION:Mehr Informationen
URL:https://inebec.juno.wpspace.me/single-event/sportgruppe-mit-sport-dabei-3/2026-01-09/
LOCATION:Bürgertreff Königs Wusterhausen\, Herderstraße 8-9\, Königs Wusterhausen\, 15711
CATEGORIES:Demenz
END:VEVENT
BEGIN:VEVENT
DTSTART;TZID=Europe/Helsinki:20260113T100000
DTEND;TZID=Europe/Helsinki:20260113T130000
DTSTAMP:20260420T012546
CREATED:20250114T084850Z
LAST-MODIFIED:20250114T084850Z
UID:10005419-1768298400-1768309200@inebec.juno.wpspace.me
SUMMARY:Betreuungsgruppe Menschen mit Demenz
DESCRIPTION:Mehr Informationen
URL:https://inebec.juno.wpspace.me/single-event/betreuungsgruppe-menschen-mit-demenz-2/2026-01-13/
LOCATION:Bürgertreff Königs Wusterhausen\, Herderstraße 8-9\, Königs Wusterhausen\, 15711
CATEGORIES:Demenz
END:VEVENT
BEGIN:VEVENT
DTSTART;TZID=Europe/Helsinki:20260115T120000
DTEND;TZID=Europe/Helsinki:20260115T140000
DTSTAMP:20260420T012546
CREATED:20250114T084142Z
LAST-MODIFIED:20250114T084142Z
UID:10004740-1768478400-1768485600@inebec.juno.wpspace.me
SUMMARY:Angehörigengruppe Menschen mit Demenz
DESCRIPTION:Mehr Informationen
URL:https://inebec.juno.wpspace.me/single-event/angehoerigengruppe-menschen-mit-demenz-2/2026-01-15/
LOCATION:Brandenburg
CATEGORIES:Demenz
END:VEVENT
BEGIN:VEVENT
DTSTART;TZID=Europe/Helsinki:20260116T093000
DTEND;TZID=Europe/Helsinki:20260116T103000
DTSTAMP:20260420T012546
CREATED:20250114T084740Z
LAST-MODIFIED:20250114T084741Z
UID:10004899-1768555800-1768559400@inebec.juno.wpspace.me
SUMMARY:Sportgruppe "Mit Sport dabei"
DESCRIPTION:Mehr Informationen
URL:https://inebec.juno.wpspace.me/single-event/sportgruppe-mit-sport-dabei-2-2/2026-01-16/
LOCATION:Bürgertreff Königs Wusterhausen\, Herderstraße 8-9\, Königs Wusterhausen\, 15711
CATEGORIES:Demenz
END:VEVENT
BEGIN:VEVENT
DTSTART;TZID=Europe/Helsinki:20260116T103000
DTEND;TZID=Europe/Helsinki:20260116T113000
DTSTAMP:20260420T012546
CREATED:20250114T084749Z
LAST-MODIFIED:20250114T084749Z
UID:10005159-1768559400-1768563000@inebec.juno.wpspace.me
SUMMARY:Sportgruppe "Mit Sport dabei"
DESCRIPTION:Mehr Informationen
URL:https://inebec.juno.wpspace.me/single-event/sportgruppe-mit-sport-dabei-3/2026-01-16/
LOCATION:Bürgertreff Königs Wusterhausen\, Herderstraße 8-9\, Königs Wusterhausen\, 15711
CATEGORIES:Demenz
END:VEVENT
BEGIN:VEVENT
DTSTART;TZID=Europe/Helsinki:20260120T100000
DTEND;TZID=Europe/Helsinki:20260120T130000
DTSTAMP:20260420T012546
CREATED:20250114T084850Z
LAST-MODIFIED:20250114T084850Z
UID:10005420-1768903200-1768914000@inebec.juno.wpspace.me
SUMMARY:Betreuungsgruppe Menschen mit Demenz
DESCRIPTION:Mehr Informationen
URL:https://inebec.juno.wpspace.me/single-event/betreuungsgruppe-menschen-mit-demenz-2/2026-01-20/
LOCATION:Bürgertreff Königs Wusterhausen\, Herderstraße 8-9\, Königs Wusterhausen\, 15711
CATEGORIES:Demenz
END:VEVENT
BEGIN:VEVENT
DTSTART;TZID=Europe/Helsinki:20260123T093000
DTEND;TZID=Europe/Helsinki:20260123T103000
DTSTAMP:20260420T012546
CREATED:20250114T084740Z
LAST-MODIFIED:20250114T084741Z
UID:10004900-1769160600-1769164200@inebec.juno.wpspace.me
SUMMARY:Sportgruppe "Mit Sport dabei"
DESCRIPTION:Mehr Informationen
URL:https://inebec.juno.wpspace.me/single-event/sportgruppe-mit-sport-dabei-2-2/2026-01-23/
LOCATION:Bürgertreff Königs Wusterhausen\, Herderstraße 8-9\, Königs Wusterhausen\, 15711
CATEGORIES:Demenz
END:VEVENT
BEGIN:VEVENT
DTSTART;TZID=Europe/Helsinki:20260123T103000
DTEND;TZID=Europe/Helsinki:20260123T113000
DTSTAMP:20260420T012547
CREATED:20250114T084749Z
LAST-MODIFIED:20250114T084749Z
UID:10005160-1769164200-1769167800@inebec.juno.wpspace.me
SUMMARY:Sportgruppe "Mit Sport dabei"
DESCRIPTION:Mehr Informationen
URL:https://inebec.juno.wpspace.me/single-event/sportgruppe-mit-sport-dabei-3/2026-01-23/
LOCATION:Bürgertreff Königs Wusterhausen\, Herderstraße 8-9\, Königs Wusterhausen\, 15711
CATEGORIES:Demenz
END:VEVENT
BEGIN:VEVENT
DTSTART;TZID=Europe/Helsinki:20260127T100000
DTEND;TZID=Europe/Helsinki:20260127T130000
DTSTAMP:20260420T012547
CREATED:20250114T084850Z
LAST-MODIFIED:20250114T084850Z
UID:10005421-1769508000-1769518800@inebec.juno.wpspace.me
SUMMARY:Betreuungsgruppe Menschen mit Demenz
DESCRIPTION:Mehr Informationen
URL:https://inebec.juno.wpspace.me/single-event/betreuungsgruppe-menschen-mit-demenz-2/2026-01-27/
LOCATION:Bürgertreff Königs Wusterhausen\, Herderstraße 8-9\, Königs Wusterhausen\, 15711
CATEGORIES:Demenz
END:VEVENT
BEGIN:VEVENT
DTSTART;TZID=Europe/Helsinki:20260130T093000
DTEND;TZID=Europe/Helsinki:20260130T103000
DTSTAMP:20260420T012547
CREATED:20250114T084740Z
LAST-MODIFIED:20250114T084741Z
UID:10004901-1769765400-1769769000@inebec.juno.wpspace.me
SUMMARY:Sportgruppe "Mit Sport dabei"
DESCRIPTION:Mehr Informationen
URL:https://inebec.juno.wpspace.me/single-event/sportgruppe-mit-sport-dabei-2-2/2026-01-30/
LOCATION:Bürgertreff Königs Wusterhausen\, Herderstraße 8-9\, Königs Wusterhausen\, 15711
CATEGORIES:Demenz
END:VEVENT
BEGIN:VEVENT
DTSTART;TZID=Europe/Helsinki:20260130T103000
DTEND;TZID=Europe/Helsinki:20260130T113000
DTSTAMP:20260420T012547
CREATED:20250114T084749Z
LAST-MODIFIED:20250114T084749Z
UID:10005161-1769769000-1769772600@inebec.juno.wpspace.me
SUMMARY:Sportgruppe "Mit Sport dabei"
DESCRIPTION:Mehr Informationen
URL:https://inebec.juno.wpspace.me/single-event/sportgruppe-mit-sport-dabei-3/2026-01-30/
LOCATION:Bürgertreff Königs Wusterhausen\, Herderstraße 8-9\, Königs Wusterhausen\, 15711
CATEGORIES:Demenz
END:VEVENT
END:VCALENDAR