BEGIN:VCALENDAR
VERSION:2.0
PRODID:-//ASB - ECPv6.15.15//NONSGML v1.0//EN
CALSCALE:GREGORIAN
METHOD:PUBLISH
X-ORIGINAL-URL:https://inebec.juno.wpspace.me
X-WR-CALDESC:Veranstaltungen für ASB
REFRESH-INTERVAL;VALUE=DURATION:PT1H
X-Robots-Tag:noindex
X-PUBLISHED-TTL:PT1H
BEGIN:VTIMEZONE
TZID:Europe/Helsinki
BEGIN:DAYLIGHT
TZOFFSETFROM:+0200
TZOFFSETTO:+0300
TZNAME:EEST
DTSTART:20260329T010000
END:DAYLIGHT
BEGIN:STANDARD
TZOFFSETFROM:+0300
TZOFFSETTO:+0200
TZNAME:EET
DTSTART:20261025T010000
END:STANDARD
BEGIN:DAYLIGHT
TZOFFSETFROM:+0200
TZOFFSETTO:+0300
TZNAME:EEST
DTSTART:20270328T010000
END:DAYLIGHT
BEGIN:STANDARD
TZOFFSETFROM:+0300
TZOFFSETTO:+0200
TZNAME:EET
DTSTART:20271031T010000
END:STANDARD
BEGIN:DAYLIGHT
TZOFFSETFROM:+0200
TZOFFSETTO:+0300
TZNAME:EEST
DTSTART:20280326T010000
END:DAYLIGHT
BEGIN:STANDARD
TZOFFSETFROM:+0300
TZOFFSETTO:+0200
TZNAME:EET
DTSTART:20281029T010000
END:STANDARD
END:VTIMEZONE
BEGIN:VEVENT
DTSTART;TZID=Europe/Helsinki:20270709T103000
DTEND;TZID=Europe/Helsinki:20270709T113000
DTSTAMP:20260426T061313
CREATED:20250114T084749Z
LAST-MODIFIED:20250114T084749Z
UID:10005236-1815129000-1815132600@inebec.juno.wpspace.me
SUMMARY:Sportgruppe "Mit Sport dabei"
DESCRIPTION:Mehr Informationen
URL:https://inebec.juno.wpspace.me/single-event/sportgruppe-mit-sport-dabei-3/2027-07-09/
LOCATION:Bürgertreff Königs Wusterhausen\, Herderstraße 8-9\, Königs Wusterhausen\, 15711
CATEGORIES:Demenz
END:VEVENT
BEGIN:VEVENT
DTSTART;TZID=Europe/Helsinki:20270713T100000
DTEND;TZID=Europe/Helsinki:20270713T130000
DTSTAMP:20260426T061313
CREATED:20250114T084850Z
LAST-MODIFIED:20250114T084850Z
UID:10005497-1815472800-1815483600@inebec.juno.wpspace.me
SUMMARY:Betreuungsgruppe Menschen mit Demenz
DESCRIPTION:Mehr Informationen
URL:https://inebec.juno.wpspace.me/single-event/betreuungsgruppe-menschen-mit-demenz-2/2027-07-13/
LOCATION:Bürgertreff Königs Wusterhausen\, Herderstraße 8-9\, Königs Wusterhausen\, 15711
CATEGORIES:Demenz
END:VEVENT
BEGIN:VEVENT
DTSTART;TZID=Europe/Helsinki:20270715T120000
DTEND;TZID=Europe/Helsinki:20270715T140000
DTSTAMP:20260426T061313
CREATED:20250114T084142Z
LAST-MODIFIED:20250114T084142Z
UID:10004758-1815652800-1815660000@inebec.juno.wpspace.me
SUMMARY:Angehörigengruppe Menschen mit Demenz
DESCRIPTION:Mehr Informationen
URL:https://inebec.juno.wpspace.me/single-event/angehoerigengruppe-menschen-mit-demenz-2/2027-07-15/
CATEGORIES:Demenz
END:VEVENT
BEGIN:VEVENT
DTSTART;TZID=Europe/Helsinki:20270716T093000
DTEND;TZID=Europe/Helsinki:20270716T103000
DTSTAMP:20260426T061313
CREATED:20250114T084740Z
LAST-MODIFIED:20250114T084741Z
UID:10004977-1815730200-1815733800@inebec.juno.wpspace.me
SUMMARY:Sportgruppe "Mit Sport dabei"
DESCRIPTION:Mehr Informationen
URL:https://inebec.juno.wpspace.me/single-event/sportgruppe-mit-sport-dabei-2-2/2027-07-16/
LOCATION:Bürgertreff Königs Wusterhausen\, Herderstraße 8-9\, Königs Wusterhausen\, 15711
CATEGORIES:Demenz
END:VEVENT
BEGIN:VEVENT
DTSTART;TZID=Europe/Helsinki:20270716T103000
DTEND;TZID=Europe/Helsinki:20270716T113000
DTSTAMP:20260426T061313
CREATED:20250114T084749Z
LAST-MODIFIED:20250114T084749Z
UID:10005237-1815733800-1815737400@inebec.juno.wpspace.me
SUMMARY:Sportgruppe "Mit Sport dabei"
DESCRIPTION:Mehr Informationen
URL:https://inebec.juno.wpspace.me/single-event/sportgruppe-mit-sport-dabei-3/2027-07-16/
LOCATION:Bürgertreff Königs Wusterhausen\, Herderstraße 8-9\, Königs Wusterhausen\, 15711
CATEGORIES:Demenz
END:VEVENT
BEGIN:VEVENT
DTSTART;TZID=Europe/Helsinki:20270720T100000
DTEND;TZID=Europe/Helsinki:20270720T130000
DTSTAMP:20260426T061313
CREATED:20250114T084850Z
LAST-MODIFIED:20250114T084850Z
UID:10005498-1816077600-1816088400@inebec.juno.wpspace.me
SUMMARY:Betreuungsgruppe Menschen mit Demenz
DESCRIPTION:Mehr Informationen
URL:https://inebec.juno.wpspace.me/single-event/betreuungsgruppe-menschen-mit-demenz-2/2027-07-20/
LOCATION:Bürgertreff Königs Wusterhausen\, Herderstraße 8-9\, Königs Wusterhausen\, 15711
CATEGORIES:Demenz
END:VEVENT
BEGIN:VEVENT
DTSTART;TZID=Europe/Helsinki:20270723T093000
DTEND;TZID=Europe/Helsinki:20270723T103000
DTSTAMP:20260426T061313
CREATED:20250114T084740Z
LAST-MODIFIED:20250114T084741Z
UID:10004978-1816335000-1816338600@inebec.juno.wpspace.me
SUMMARY:Sportgruppe "Mit Sport dabei"
DESCRIPTION:Mehr Informationen
URL:https://inebec.juno.wpspace.me/single-event/sportgruppe-mit-sport-dabei-2-2/2027-07-23/
LOCATION:Bürgertreff Königs Wusterhausen\, Herderstraße 8-9\, Königs Wusterhausen\, 15711
CATEGORIES:Demenz
END:VEVENT
BEGIN:VEVENT
DTSTART;TZID=Europe/Helsinki:20270723T103000
DTEND;TZID=Europe/Helsinki:20270723T113000
DTSTAMP:20260426T061313
CREATED:20250114T084749Z
LAST-MODIFIED:20250114T084749Z
UID:10005238-1816338600-1816342200@inebec.juno.wpspace.me
SUMMARY:Sportgruppe "Mit Sport dabei"
DESCRIPTION:Mehr Informationen
URL:https://inebec.juno.wpspace.me/single-event/sportgruppe-mit-sport-dabei-3/2027-07-23/
LOCATION:Bürgertreff Königs Wusterhausen\, Herderstraße 8-9\, Königs Wusterhausen\, 15711
CATEGORIES:Demenz
END:VEVENT
BEGIN:VEVENT
DTSTART;TZID=Europe/Helsinki:20270727T100000
DTEND;TZID=Europe/Helsinki:20270727T130000
DTSTAMP:20260426T061313
CREATED:20250114T084850Z
LAST-MODIFIED:20250114T084850Z
UID:10005499-1816682400-1816693200@inebec.juno.wpspace.me
SUMMARY:Betreuungsgruppe Menschen mit Demenz
DESCRIPTION:Mehr Informationen
URL:https://inebec.juno.wpspace.me/single-event/betreuungsgruppe-menschen-mit-demenz-2/2027-07-27/
LOCATION:Bürgertreff Königs Wusterhausen\, Herderstraße 8-9\, Königs Wusterhausen\, 15711
CATEGORIES:Demenz
END:VEVENT
BEGIN:VEVENT
DTSTART;TZID=Europe/Helsinki:20270730T093000
DTEND;TZID=Europe/Helsinki:20270730T103000
DTSTAMP:20260426T061313
CREATED:20250114T084740Z
LAST-MODIFIED:20250114T084741Z
UID:10004979-1816939800-1816943400@inebec.juno.wpspace.me
SUMMARY:Sportgruppe "Mit Sport dabei"
DESCRIPTION:Mehr Informationen
URL:https://inebec.juno.wpspace.me/single-event/sportgruppe-mit-sport-dabei-2-2/2027-07-30/
LOCATION:Bürgertreff Königs Wusterhausen\, Herderstraße 8-9\, Königs Wusterhausen\, 15711
CATEGORIES:Demenz
END:VEVENT
BEGIN:VEVENT
DTSTART;TZID=Europe/Helsinki:20270730T103000
DTEND;TZID=Europe/Helsinki:20270730T113000
DTSTAMP:20260426T061313
CREATED:20250114T084749Z
LAST-MODIFIED:20250114T084749Z
UID:10005239-1816943400-1816947000@inebec.juno.wpspace.me
SUMMARY:Sportgruppe "Mit Sport dabei"
DESCRIPTION:Mehr Informationen
URL:https://inebec.juno.wpspace.me/single-event/sportgruppe-mit-sport-dabei-3/2027-07-30/
LOCATION:Bürgertreff Königs Wusterhausen\, Herderstraße 8-9\, Königs Wusterhausen\, 15711
CATEGORIES:Demenz
END:VEVENT
BEGIN:VEVENT
DTSTART;TZID=Europe/Helsinki:20270803T100000
DTEND;TZID=Europe/Helsinki:20270803T130000
DTSTAMP:20260426T061313
CREATED:20250114T084850Z
LAST-MODIFIED:20250114T084850Z
UID:10005500-1817287200-1817298000@inebec.juno.wpspace.me
SUMMARY:Betreuungsgruppe Menschen mit Demenz
DESCRIPTION:Mehr Informationen
URL:https://inebec.juno.wpspace.me/single-event/betreuungsgruppe-menschen-mit-demenz-2/2027-08-03/
LOCATION:Bürgertreff Königs Wusterhausen\, Herderstraße 8-9\, Königs Wusterhausen\, 15711
CATEGORIES:Demenz
END:VEVENT
BEGIN:VEVENT
DTSTART;TZID=Europe/Helsinki:20270805T170000
DTEND;TZID=Europe/Helsinki:20270805T190000
DTSTAMP:20260426T061313
CREATED:20250114T084422Z
LAST-MODIFIED:20250114T084422Z
UID:10004818-1817485200-1817492400@inebec.juno.wpspace.me
SUMMARY:Angehörigengruppe Menschen mit Demenz
DESCRIPTION:Mehr Informationen
URL:https://inebec.juno.wpspace.me/single-event/angehoerigengruppe-menschen-mit-demenz-3/2027-08-05/
CATEGORIES:Demenz
END:VEVENT
BEGIN:VEVENT
DTSTART;TZID=Europe/Helsinki:20270806T093000
DTEND;TZID=Europe/Helsinki:20270806T103000
DTSTAMP:20260426T061313
CREATED:20250114T084740Z
LAST-MODIFIED:20250114T084741Z
UID:10004980-1817544600-1817548200@inebec.juno.wpspace.me
SUMMARY:Sportgruppe "Mit Sport dabei"
DESCRIPTION:Mehr Informationen
URL:https://inebec.juno.wpspace.me/single-event/sportgruppe-mit-sport-dabei-2-2/2027-08-06/
LOCATION:Bürgertreff Königs Wusterhausen\, Herderstraße 8-9\, Königs Wusterhausen\, 15711
CATEGORIES:Demenz
END:VEVENT
BEGIN:VEVENT
DTSTART;TZID=Europe/Helsinki:20270806T103000
DTEND;TZID=Europe/Helsinki:20270806T113000
DTSTAMP:20260426T061313
CREATED:20250114T084749Z
LAST-MODIFIED:20250114T084749Z
UID:10005240-1817548200-1817551800@inebec.juno.wpspace.me
SUMMARY:Sportgruppe "Mit Sport dabei"
DESCRIPTION:Mehr Informationen
URL:https://inebec.juno.wpspace.me/single-event/sportgruppe-mit-sport-dabei-3/2027-08-06/
LOCATION:Bürgertreff Königs Wusterhausen\, Herderstraße 8-9\, Königs Wusterhausen\, 15711
CATEGORIES:Demenz
END:VEVENT
BEGIN:VEVENT
DTSTART;TZID=Europe/Helsinki:20270810T100000
DTEND;TZID=Europe/Helsinki:20270810T130000
DTSTAMP:20260426T061313
CREATED:20250114T084850Z
LAST-MODIFIED:20250114T084850Z
UID:10005501-1817892000-1817902800@inebec.juno.wpspace.me
SUMMARY:Betreuungsgruppe Menschen mit Demenz
DESCRIPTION:Mehr Informationen
URL:https://inebec.juno.wpspace.me/single-event/betreuungsgruppe-menschen-mit-demenz-2/2027-08-10/
LOCATION:Bürgertreff Königs Wusterhausen\, Herderstraße 8-9\, Königs Wusterhausen\, 15711
CATEGORIES:Demenz
END:VEVENT
BEGIN:VEVENT
DTSTART;TZID=Europe/Helsinki:20270813T093000
DTEND;TZID=Europe/Helsinki:20270813T103000
DTSTAMP:20260426T061313
CREATED:20250114T084740Z
LAST-MODIFIED:20250114T084741Z
UID:10004981-1818149400-1818153000@inebec.juno.wpspace.me
SUMMARY:Sportgruppe "Mit Sport dabei"
DESCRIPTION:Mehr Informationen
URL:https://inebec.juno.wpspace.me/single-event/sportgruppe-mit-sport-dabei-2-2/2027-08-13/
LOCATION:Bürgertreff Königs Wusterhausen\, Herderstraße 8-9\, Königs Wusterhausen\, 15711
CATEGORIES:Demenz
END:VEVENT
BEGIN:VEVENT
DTSTART;TZID=Europe/Helsinki:20270813T103000
DTEND;TZID=Europe/Helsinki:20270813T113000
DTSTAMP:20260426T061313
CREATED:20250114T084749Z
LAST-MODIFIED:20250114T084749Z
UID:10005241-1818153000-1818156600@inebec.juno.wpspace.me
SUMMARY:Sportgruppe "Mit Sport dabei"
DESCRIPTION:Mehr Informationen
URL:https://inebec.juno.wpspace.me/single-event/sportgruppe-mit-sport-dabei-3/2027-08-13/
LOCATION:Bürgertreff Königs Wusterhausen\, Herderstraße 8-9\, Königs Wusterhausen\, 15711
CATEGORIES:Demenz
END:VEVENT
BEGIN:VEVENT
DTSTART;TZID=Europe/Helsinki:20270817T100000
DTEND;TZID=Europe/Helsinki:20270817T130000
DTSTAMP:20260426T061313
CREATED:20250114T084850Z
LAST-MODIFIED:20250114T084850Z
UID:10005502-1818496800-1818507600@inebec.juno.wpspace.me
SUMMARY:Betreuungsgruppe Menschen mit Demenz
DESCRIPTION:Mehr Informationen
URL:https://inebec.juno.wpspace.me/single-event/betreuungsgruppe-menschen-mit-demenz-2/2027-08-17/
LOCATION:Bürgertreff Königs Wusterhausen\, Herderstraße 8-9\, Königs Wusterhausen\, 15711
CATEGORIES:Demenz
END:VEVENT
BEGIN:VEVENT
DTSTART;TZID=Europe/Helsinki:20270819T120000
DTEND;TZID=Europe/Helsinki:20270819T140000
DTSTAMP:20260426T061313
CREATED:20250114T084142Z
LAST-MODIFIED:20250114T084142Z
UID:10004759-1818676800-1818684000@inebec.juno.wpspace.me
SUMMARY:Angehörigengruppe Menschen mit Demenz
DESCRIPTION:Mehr Informationen
URL:https://inebec.juno.wpspace.me/single-event/angehoerigengruppe-menschen-mit-demenz-2/2027-08-19/
CATEGORIES:Demenz
END:VEVENT
BEGIN:VEVENT
DTSTART;TZID=Europe/Helsinki:20270820T093000
DTEND;TZID=Europe/Helsinki:20270820T103000
DTSTAMP:20260426T061313
CREATED:20250114T084740Z
LAST-MODIFIED:20250114T084741Z
UID:10004982-1818754200-1818757800@inebec.juno.wpspace.me
SUMMARY:Sportgruppe "Mit Sport dabei"
DESCRIPTION:Mehr Informationen
URL:https://inebec.juno.wpspace.me/single-event/sportgruppe-mit-sport-dabei-2-2/2027-08-20/
LOCATION:Bürgertreff Königs Wusterhausen\, Herderstraße 8-9\, Königs Wusterhausen\, 15711
CATEGORIES:Demenz
END:VEVENT
BEGIN:VEVENT
DTSTART;TZID=Europe/Helsinki:20270820T103000
DTEND;TZID=Europe/Helsinki:20270820T113000
DTSTAMP:20260426T061313
CREATED:20250114T084749Z
LAST-MODIFIED:20250114T084749Z
UID:10005242-1818757800-1818761400@inebec.juno.wpspace.me
SUMMARY:Sportgruppe "Mit Sport dabei"
DESCRIPTION:Mehr Informationen
URL:https://inebec.juno.wpspace.me/single-event/sportgruppe-mit-sport-dabei-3/2027-08-20/
LOCATION:Bürgertreff Königs Wusterhausen\, Herderstraße 8-9\, Königs Wusterhausen\, 15711
CATEGORIES:Demenz
END:VEVENT
BEGIN:VEVENT
DTSTART;TZID=Europe/Helsinki:20270824T100000
DTEND;TZID=Europe/Helsinki:20270824T130000
DTSTAMP:20260426T061313
CREATED:20250114T084850Z
LAST-MODIFIED:20250114T084850Z
UID:10005503-1819101600-1819112400@inebec.juno.wpspace.me
SUMMARY:Betreuungsgruppe Menschen mit Demenz
DESCRIPTION:Mehr Informationen
URL:https://inebec.juno.wpspace.me/single-event/betreuungsgruppe-menschen-mit-demenz-2/2027-08-24/
LOCATION:Bürgertreff Königs Wusterhausen\, Herderstraße 8-9\, Königs Wusterhausen\, 15711
CATEGORIES:Demenz
END:VEVENT
BEGIN:VEVENT
DTSTART;TZID=Europe/Helsinki:20270827T093000
DTEND;TZID=Europe/Helsinki:20270827T103000
DTSTAMP:20260426T061313
CREATED:20250114T084740Z
LAST-MODIFIED:20250114T084741Z
UID:10004983-1819359000-1819362600@inebec.juno.wpspace.me
SUMMARY:Sportgruppe "Mit Sport dabei"
DESCRIPTION:Mehr Informationen
URL:https://inebec.juno.wpspace.me/single-event/sportgruppe-mit-sport-dabei-2-2/2027-08-27/
LOCATION:Bürgertreff Königs Wusterhausen\, Herderstraße 8-9\, Königs Wusterhausen\, 15711
CATEGORIES:Demenz
END:VEVENT
BEGIN:VEVENT
DTSTART;TZID=Europe/Helsinki:20270827T103000
DTEND;TZID=Europe/Helsinki:20270827T113000
DTSTAMP:20260426T061313
CREATED:20250114T084749Z
LAST-MODIFIED:20250114T084749Z
UID:10005243-1819362600-1819366200@inebec.juno.wpspace.me
SUMMARY:Sportgruppe "Mit Sport dabei"
DESCRIPTION:Mehr Informationen
URL:https://inebec.juno.wpspace.me/single-event/sportgruppe-mit-sport-dabei-3/2027-08-27/
LOCATION:Bürgertreff Königs Wusterhausen\, Herderstraße 8-9\, Königs Wusterhausen\, 15711
CATEGORIES:Demenz
END:VEVENT
BEGIN:VEVENT
DTSTART;TZID=Europe/Helsinki:20270831T100000
DTEND;TZID=Europe/Helsinki:20270831T130000
DTSTAMP:20260426T061313
CREATED:20250114T084850Z
LAST-MODIFIED:20250114T084850Z
UID:10005504-1819706400-1819717200@inebec.juno.wpspace.me
SUMMARY:Betreuungsgruppe Menschen mit Demenz
DESCRIPTION:Mehr Informationen
URL:https://inebec.juno.wpspace.me/single-event/betreuungsgruppe-menschen-mit-demenz-2/2027-08-31/
LOCATION:Bürgertreff Königs Wusterhausen\, Herderstraße 8-9\, Königs Wusterhausen\, 15711
CATEGORIES:Demenz
END:VEVENT
BEGIN:VEVENT
DTSTART;TZID=Europe/Helsinki:20270902T170000
DTEND;TZID=Europe/Helsinki:20270902T190000
DTSTAMP:20260426T061313
CREATED:20250114T084422Z
LAST-MODIFIED:20250114T084422Z
UID:10004819-1819904400-1819911600@inebec.juno.wpspace.me
SUMMARY:Angehörigengruppe Menschen mit Demenz
DESCRIPTION:Mehr Informationen
URL:https://inebec.juno.wpspace.me/single-event/angehoerigengruppe-menschen-mit-demenz-3/2027-09-02/
CATEGORIES:Demenz
END:VEVENT
BEGIN:VEVENT
DTSTART;TZID=Europe/Helsinki:20270903T093000
DTEND;TZID=Europe/Helsinki:20270903T103000
DTSTAMP:20260426T061313
CREATED:20250114T084740Z
LAST-MODIFIED:20250114T084741Z
UID:10004984-1819963800-1819967400@inebec.juno.wpspace.me
SUMMARY:Sportgruppe "Mit Sport dabei"
DESCRIPTION:Mehr Informationen
URL:https://inebec.juno.wpspace.me/single-event/sportgruppe-mit-sport-dabei-2-2/2027-09-03/
LOCATION:Bürgertreff Königs Wusterhausen\, Herderstraße 8-9\, Königs Wusterhausen\, 15711
CATEGORIES:Demenz
END:VEVENT
BEGIN:VEVENT
DTSTART;TZID=Europe/Helsinki:20270903T103000
DTEND;TZID=Europe/Helsinki:20270903T113000
DTSTAMP:20260426T061313
CREATED:20250114T084749Z
LAST-MODIFIED:20250114T084749Z
UID:10005244-1819967400-1819971000@inebec.juno.wpspace.me
SUMMARY:Sportgruppe "Mit Sport dabei"
DESCRIPTION:Mehr Informationen
URL:https://inebec.juno.wpspace.me/single-event/sportgruppe-mit-sport-dabei-3/2027-09-03/
LOCATION:Bürgertreff Königs Wusterhausen\, Herderstraße 8-9\, Königs Wusterhausen\, 15711
CATEGORIES:Demenz
END:VEVENT
BEGIN:VEVENT
DTSTART;TZID=Europe/Helsinki:20270907T100000
DTEND;TZID=Europe/Helsinki:20270907T130000
DTSTAMP:20260426T061313
CREATED:20250114T084850Z
LAST-MODIFIED:20250114T084850Z
UID:10005505-1820311200-1820322000@inebec.juno.wpspace.me
SUMMARY:Betreuungsgruppe Menschen mit Demenz
DESCRIPTION:Mehr Informationen
URL:https://inebec.juno.wpspace.me/single-event/betreuungsgruppe-menschen-mit-demenz-2/2027-09-07/
LOCATION:Bürgertreff Königs Wusterhausen\, Herderstraße 8-9\, Königs Wusterhausen\, 15711
CATEGORIES:Demenz
END:VEVENT
END:VCALENDAR