BEGIN:VCALENDAR
VERSION:2.0
PRODID:-//ASB - ECPv6.15.15//NONSGML v1.0//EN
CALSCALE:GREGORIAN
METHOD:PUBLISH
X-WR-CALNAME:ASB
X-ORIGINAL-URL:https://inebec.juno.wpspace.me
X-WR-CALDESC:Veranstaltungen für ASB
REFRESH-INTERVAL;VALUE=DURATION:PT1H
X-Robots-Tag:noindex
X-PUBLISHED-TTL:PT1H
BEGIN:VTIMEZONE
TZID:Europe/Helsinki
BEGIN:DAYLIGHT
TZOFFSETFROM:+0200
TZOFFSETTO:+0300
TZNAME:EEST
DTSTART:20260329T010000
END:DAYLIGHT
BEGIN:STANDARD
TZOFFSETFROM:+0300
TZOFFSETTO:+0200
TZNAME:EET
DTSTART:20261025T010000
END:STANDARD
BEGIN:DAYLIGHT
TZOFFSETFROM:+0200
TZOFFSETTO:+0300
TZNAME:EEST
DTSTART:20270328T010000
END:DAYLIGHT
BEGIN:STANDARD
TZOFFSETFROM:+0300
TZOFFSETTO:+0200
TZNAME:EET
DTSTART:20271031T010000
END:STANDARD
BEGIN:DAYLIGHT
TZOFFSETFROM:+0200
TZOFFSETTO:+0300
TZNAME:EEST
DTSTART:20280326T010000
END:DAYLIGHT
BEGIN:STANDARD
TZOFFSETFROM:+0300
TZOFFSETTO:+0200
TZNAME:EET
DTSTART:20281029T010000
END:STANDARD
END:VTIMEZONE
BEGIN:VEVENT
DTSTART;TZID=Europe/Helsinki:20270416T093000
DTEND;TZID=Europe/Helsinki:20270416T103000
DTSTAMP:20260425T184721
CREATED:20250114T084740Z
LAST-MODIFIED:20250114T084741Z
UID:10004964-1807867800-1807871400@inebec.juno.wpspace.me
SUMMARY:Sportgruppe "Mit Sport dabei"
DESCRIPTION:Mehr Informationen
URL:https://inebec.juno.wpspace.me/single-event/sportgruppe-mit-sport-dabei-2-2/2027-04-16/
LOCATION:Bürgertreff Königs Wusterhausen\, Herderstraße 8-9\, Königs Wusterhausen\, 15711
CATEGORIES:Demenz
END:VEVENT
BEGIN:VEVENT
DTSTART;TZID=Europe/Helsinki:20270416T103000
DTEND;TZID=Europe/Helsinki:20270416T113000
DTSTAMP:20260425T184721
CREATED:20250114T084749Z
LAST-MODIFIED:20250114T084749Z
UID:10005224-1807871400-1807875000@inebec.juno.wpspace.me
SUMMARY:Sportgruppe "Mit Sport dabei"
DESCRIPTION:Mehr Informationen
URL:https://inebec.juno.wpspace.me/single-event/sportgruppe-mit-sport-dabei-3/2027-04-16/
LOCATION:Bürgertreff Königs Wusterhausen\, Herderstraße 8-9\, Königs Wusterhausen\, 15711
CATEGORIES:Demenz
END:VEVENT
BEGIN:VEVENT
DTSTART;TZID=Europe/Helsinki:20270420T100000
DTEND;TZID=Europe/Helsinki:20270420T130000
DTSTAMP:20260425T184721
CREATED:20250114T084850Z
LAST-MODIFIED:20250114T084850Z
UID:10005485-1808215200-1808226000@inebec.juno.wpspace.me
SUMMARY:Betreuungsgruppe Menschen mit Demenz
DESCRIPTION:Mehr Informationen
URL:https://inebec.juno.wpspace.me/single-event/betreuungsgruppe-menschen-mit-demenz-2/2027-04-20/
LOCATION:Bürgertreff Königs Wusterhausen\, Herderstraße 8-9\, Königs Wusterhausen\, 15711
CATEGORIES:Demenz
END:VEVENT
BEGIN:VEVENT
DTSTART;TZID=Europe/Helsinki:20270423T093000
DTEND;TZID=Europe/Helsinki:20270423T103000
DTSTAMP:20260425T184721
CREATED:20250114T084740Z
LAST-MODIFIED:20250114T084741Z
UID:10004965-1808472600-1808476200@inebec.juno.wpspace.me
SUMMARY:Sportgruppe "Mit Sport dabei"
DESCRIPTION:Mehr Informationen
URL:https://inebec.juno.wpspace.me/single-event/sportgruppe-mit-sport-dabei-2-2/2027-04-23/
LOCATION:Bürgertreff Königs Wusterhausen\, Herderstraße 8-9\, Königs Wusterhausen\, 15711
CATEGORIES:Demenz
END:VEVENT
BEGIN:VEVENT
DTSTART;TZID=Europe/Helsinki:20270423T103000
DTEND;TZID=Europe/Helsinki:20270423T113000
DTSTAMP:20260425T184721
CREATED:20250114T084749Z
LAST-MODIFIED:20250114T084749Z
UID:10005225-1808476200-1808479800@inebec.juno.wpspace.me
SUMMARY:Sportgruppe "Mit Sport dabei"
DESCRIPTION:Mehr Informationen
URL:https://inebec.juno.wpspace.me/single-event/sportgruppe-mit-sport-dabei-3/2027-04-23/
LOCATION:Bürgertreff Königs Wusterhausen\, Herderstraße 8-9\, Königs Wusterhausen\, 15711
CATEGORIES:Demenz
END:VEVENT
BEGIN:VEVENT
DTSTART;TZID=Europe/Helsinki:20270427T100000
DTEND;TZID=Europe/Helsinki:20270427T130000
DTSTAMP:20260425T184721
CREATED:20250114T084850Z
LAST-MODIFIED:20250114T084850Z
UID:10005486-1808820000-1808830800@inebec.juno.wpspace.me
SUMMARY:Betreuungsgruppe Menschen mit Demenz
DESCRIPTION:Mehr Informationen
URL:https://inebec.juno.wpspace.me/single-event/betreuungsgruppe-menschen-mit-demenz-2/2027-04-27/
LOCATION:Bürgertreff Königs Wusterhausen\, Herderstraße 8-9\, Königs Wusterhausen\, 15711
CATEGORIES:Demenz
END:VEVENT
BEGIN:VEVENT
DTSTART;TZID=Europe/Helsinki:20270430T093000
DTEND;TZID=Europe/Helsinki:20270430T103000
DTSTAMP:20260425T184721
CREATED:20250114T084740Z
LAST-MODIFIED:20250114T084741Z
UID:10004966-1809077400-1809081000@inebec.juno.wpspace.me
SUMMARY:Sportgruppe "Mit Sport dabei"
DESCRIPTION:Mehr Informationen
URL:https://inebec.juno.wpspace.me/single-event/sportgruppe-mit-sport-dabei-2-2/2027-04-30/
LOCATION:Bürgertreff Königs Wusterhausen\, Herderstraße 8-9\, Königs Wusterhausen\, 15711
CATEGORIES:Demenz
END:VEVENT
BEGIN:VEVENT
DTSTART;TZID=Europe/Helsinki:20270430T103000
DTEND;TZID=Europe/Helsinki:20270430T113000
DTSTAMP:20260425T184721
CREATED:20250114T084749Z
LAST-MODIFIED:20250114T084749Z
UID:10005226-1809081000-1809084600@inebec.juno.wpspace.me
SUMMARY:Sportgruppe "Mit Sport dabei"
DESCRIPTION:Mehr Informationen
URL:https://inebec.juno.wpspace.me/single-event/sportgruppe-mit-sport-dabei-3/2027-04-30/
LOCATION:Bürgertreff Königs Wusterhausen\, Herderstraße 8-9\, Königs Wusterhausen\, 15711
CATEGORIES:Demenz
END:VEVENT
BEGIN:VEVENT
DTSTART;TZID=Europe/Helsinki:20270504T100000
DTEND;TZID=Europe/Helsinki:20270504T130000
DTSTAMP:20260425T184721
CREATED:20250114T084850Z
LAST-MODIFIED:20250114T084850Z
UID:10005487-1809424800-1809435600@inebec.juno.wpspace.me
SUMMARY:Betreuungsgruppe Menschen mit Demenz
DESCRIPTION:Mehr Informationen
URL:https://inebec.juno.wpspace.me/single-event/betreuungsgruppe-menschen-mit-demenz-2/2027-05-04/
LOCATION:Bürgertreff Königs Wusterhausen\, Herderstraße 8-9\, Königs Wusterhausen\, 15711
CATEGORIES:Demenz
END:VEVENT
BEGIN:VEVENT
DTSTART;TZID=Europe/Helsinki:20270506T170000
DTEND;TZID=Europe/Helsinki:20270506T190000
DTSTAMP:20260425T184721
CREATED:20250114T084422Z
LAST-MODIFIED:20250114T084422Z
UID:10004815-1809622800-1809630000@inebec.juno.wpspace.me
SUMMARY:Angehörigengruppe Menschen mit Demenz
DESCRIPTION:Mehr Informationen
URL:https://inebec.juno.wpspace.me/single-event/angehoerigengruppe-menschen-mit-demenz-3/2027-05-06/
CATEGORIES:Demenz
END:VEVENT
BEGIN:VEVENT
DTSTART;TZID=Europe/Helsinki:20270507T093000
DTEND;TZID=Europe/Helsinki:20270507T103000
DTSTAMP:20260425T184721
CREATED:20250114T084740Z
LAST-MODIFIED:20250114T084741Z
UID:10004967-1809682200-1809685800@inebec.juno.wpspace.me
SUMMARY:Sportgruppe "Mit Sport dabei"
DESCRIPTION:Mehr Informationen
URL:https://inebec.juno.wpspace.me/single-event/sportgruppe-mit-sport-dabei-2-2/2027-05-07/
LOCATION:Bürgertreff Königs Wusterhausen\, Herderstraße 8-9\, Königs Wusterhausen\, 15711
CATEGORIES:Demenz
END:VEVENT
BEGIN:VEVENT
DTSTART;TZID=Europe/Helsinki:20270507T103000
DTEND;TZID=Europe/Helsinki:20270507T113000
DTSTAMP:20260425T184721
CREATED:20250114T084749Z
LAST-MODIFIED:20250114T084749Z
UID:10005227-1809685800-1809689400@inebec.juno.wpspace.me
SUMMARY:Sportgruppe "Mit Sport dabei"
DESCRIPTION:Mehr Informationen
URL:https://inebec.juno.wpspace.me/single-event/sportgruppe-mit-sport-dabei-3/2027-05-07/
LOCATION:Bürgertreff Königs Wusterhausen\, Herderstraße 8-9\, Königs Wusterhausen\, 15711
CATEGORIES:Demenz
END:VEVENT
BEGIN:VEVENT
DTSTART;TZID=Europe/Helsinki:20270511T100000
DTEND;TZID=Europe/Helsinki:20270511T130000
DTSTAMP:20260425T184721
CREATED:20250114T084850Z
LAST-MODIFIED:20250114T084850Z
UID:10005488-1810029600-1810040400@inebec.juno.wpspace.me
SUMMARY:Betreuungsgruppe Menschen mit Demenz
DESCRIPTION:Mehr Informationen
URL:https://inebec.juno.wpspace.me/single-event/betreuungsgruppe-menschen-mit-demenz-2/2027-05-11/
LOCATION:Bürgertreff Königs Wusterhausen\, Herderstraße 8-9\, Königs Wusterhausen\, 15711
CATEGORIES:Demenz
END:VEVENT
BEGIN:VEVENT
DTSTART;TZID=Europe/Helsinki:20270514T093000
DTEND;TZID=Europe/Helsinki:20270514T103000
DTSTAMP:20260425T184721
CREATED:20250114T084740Z
LAST-MODIFIED:20250114T084741Z
UID:10004968-1810287000-1810290600@inebec.juno.wpspace.me
SUMMARY:Sportgruppe "Mit Sport dabei"
DESCRIPTION:Mehr Informationen
URL:https://inebec.juno.wpspace.me/single-event/sportgruppe-mit-sport-dabei-2-2/2027-05-14/
LOCATION:Bürgertreff Königs Wusterhausen\, Herderstraße 8-9\, Königs Wusterhausen\, 15711
CATEGORIES:Demenz
END:VEVENT
BEGIN:VEVENT
DTSTART;TZID=Europe/Helsinki:20270514T103000
DTEND;TZID=Europe/Helsinki:20270514T113000
DTSTAMP:20260425T184721
CREATED:20250114T084749Z
LAST-MODIFIED:20250114T084749Z
UID:10005228-1810290600-1810294200@inebec.juno.wpspace.me
SUMMARY:Sportgruppe "Mit Sport dabei"
DESCRIPTION:Mehr Informationen
URL:https://inebec.juno.wpspace.me/single-event/sportgruppe-mit-sport-dabei-3/2027-05-14/
LOCATION:Bürgertreff Königs Wusterhausen\, Herderstraße 8-9\, Königs Wusterhausen\, 15711
CATEGORIES:Demenz
END:VEVENT
BEGIN:VEVENT
DTSTART;TZID=Europe/Helsinki:20270518T100000
DTEND;TZID=Europe/Helsinki:20270518T130000
DTSTAMP:20260425T184721
CREATED:20250114T084850Z
LAST-MODIFIED:20250114T084850Z
UID:10005489-1810634400-1810645200@inebec.juno.wpspace.me
SUMMARY:Betreuungsgruppe Menschen mit Demenz
DESCRIPTION:Mehr Informationen
URL:https://inebec.juno.wpspace.me/single-event/betreuungsgruppe-menschen-mit-demenz-2/2027-05-18/
LOCATION:Bürgertreff Königs Wusterhausen\, Herderstraße 8-9\, Königs Wusterhausen\, 15711
CATEGORIES:Demenz
END:VEVENT
BEGIN:VEVENT
DTSTART;TZID=Europe/Helsinki:20270520T120000
DTEND;TZID=Europe/Helsinki:20270520T140000
DTSTAMP:20260425T184721
CREATED:20250114T084142Z
LAST-MODIFIED:20250114T084142Z
UID:10004756-1810814400-1810821600@inebec.juno.wpspace.me
SUMMARY:Angehörigengruppe Menschen mit Demenz
DESCRIPTION:Mehr Informationen
URL:https://inebec.juno.wpspace.me/single-event/angehoerigengruppe-menschen-mit-demenz-2/2027-05-20/
CATEGORIES:Demenz
END:VEVENT
BEGIN:VEVENT
DTSTART;TZID=Europe/Helsinki:20270521T093000
DTEND;TZID=Europe/Helsinki:20270521T103000
DTSTAMP:20260425T184721
CREATED:20250114T084740Z
LAST-MODIFIED:20250114T084741Z
UID:10004969-1810891800-1810895400@inebec.juno.wpspace.me
SUMMARY:Sportgruppe "Mit Sport dabei"
DESCRIPTION:Mehr Informationen
URL:https://inebec.juno.wpspace.me/single-event/sportgruppe-mit-sport-dabei-2-2/2027-05-21/
LOCATION:Bürgertreff Königs Wusterhausen\, Herderstraße 8-9\, Königs Wusterhausen\, 15711
CATEGORIES:Demenz
END:VEVENT
BEGIN:VEVENT
DTSTART;TZID=Europe/Helsinki:20270521T103000
DTEND;TZID=Europe/Helsinki:20270521T113000
DTSTAMP:20260425T184721
CREATED:20250114T084749Z
LAST-MODIFIED:20250114T084749Z
UID:10005229-1810895400-1810899000@inebec.juno.wpspace.me
SUMMARY:Sportgruppe "Mit Sport dabei"
DESCRIPTION:Mehr Informationen
URL:https://inebec.juno.wpspace.me/single-event/sportgruppe-mit-sport-dabei-3/2027-05-21/
LOCATION:Bürgertreff Königs Wusterhausen\, Herderstraße 8-9\, Königs Wusterhausen\, 15711
CATEGORIES:Demenz
END:VEVENT
BEGIN:VEVENT
DTSTART;TZID=Europe/Helsinki:20270525T100000
DTEND;TZID=Europe/Helsinki:20270525T130000
DTSTAMP:20260425T184721
CREATED:20250114T084850Z
LAST-MODIFIED:20250114T084850Z
UID:10005490-1811239200-1811250000@inebec.juno.wpspace.me
SUMMARY:Betreuungsgruppe Menschen mit Demenz
DESCRIPTION:Mehr Informationen
URL:https://inebec.juno.wpspace.me/single-event/betreuungsgruppe-menschen-mit-demenz-2/2027-05-25/
LOCATION:Bürgertreff Königs Wusterhausen\, Herderstraße 8-9\, Königs Wusterhausen\, 15711
CATEGORIES:Demenz
END:VEVENT
BEGIN:VEVENT
DTSTART;TZID=Europe/Helsinki:20270528T093000
DTEND;TZID=Europe/Helsinki:20270528T103000
DTSTAMP:20260425T184721
CREATED:20250114T084740Z
LAST-MODIFIED:20250114T084741Z
UID:10004970-1811496600-1811500200@inebec.juno.wpspace.me
SUMMARY:Sportgruppe "Mit Sport dabei"
DESCRIPTION:Mehr Informationen
URL:https://inebec.juno.wpspace.me/single-event/sportgruppe-mit-sport-dabei-2-2/2027-05-28/
LOCATION:Bürgertreff Königs Wusterhausen\, Herderstraße 8-9\, Königs Wusterhausen\, 15711
CATEGORIES:Demenz
END:VEVENT
BEGIN:VEVENT
DTSTART;TZID=Europe/Helsinki:20270528T103000
DTEND;TZID=Europe/Helsinki:20270528T113000
DTSTAMP:20260425T184721
CREATED:20250114T084749Z
LAST-MODIFIED:20250114T084749Z
UID:10005230-1811500200-1811503800@inebec.juno.wpspace.me
SUMMARY:Sportgruppe "Mit Sport dabei"
DESCRIPTION:Mehr Informationen
URL:https://inebec.juno.wpspace.me/single-event/sportgruppe-mit-sport-dabei-3/2027-05-28/
LOCATION:Bürgertreff Königs Wusterhausen\, Herderstraße 8-9\, Königs Wusterhausen\, 15711
CATEGORIES:Demenz
END:VEVENT
BEGIN:VEVENT
DTSTART;TZID=Europe/Helsinki:20270601T100000
DTEND;TZID=Europe/Helsinki:20270601T130000
DTSTAMP:20260425T184721
CREATED:20250114T084850Z
LAST-MODIFIED:20250114T084850Z
UID:10005491-1811844000-1811854800@inebec.juno.wpspace.me
SUMMARY:Betreuungsgruppe Menschen mit Demenz
DESCRIPTION:Mehr Informationen
URL:https://inebec.juno.wpspace.me/single-event/betreuungsgruppe-menschen-mit-demenz-2/2027-06-01/
LOCATION:Bürgertreff Königs Wusterhausen\, Herderstraße 8-9\, Königs Wusterhausen\, 15711
CATEGORIES:Demenz
END:VEVENT
BEGIN:VEVENT
DTSTART;TZID=Europe/Helsinki:20270603T170000
DTEND;TZID=Europe/Helsinki:20270603T190000
DTSTAMP:20260425T184721
CREATED:20250114T084422Z
LAST-MODIFIED:20250114T084422Z
UID:10004816-1812042000-1812049200@inebec.juno.wpspace.me
SUMMARY:Angehörigengruppe Menschen mit Demenz
DESCRIPTION:Mehr Informationen
URL:https://inebec.juno.wpspace.me/single-event/angehoerigengruppe-menschen-mit-demenz-3/2027-06-03/
CATEGORIES:Demenz
END:VEVENT
BEGIN:VEVENT
DTSTART;TZID=Europe/Helsinki:20270604T093000
DTEND;TZID=Europe/Helsinki:20270604T103000
DTSTAMP:20260425T184721
CREATED:20250114T084740Z
LAST-MODIFIED:20250114T084741Z
UID:10004971-1812101400-1812105000@inebec.juno.wpspace.me
SUMMARY:Sportgruppe "Mit Sport dabei"
DESCRIPTION:Mehr Informationen
URL:https://inebec.juno.wpspace.me/single-event/sportgruppe-mit-sport-dabei-2-2/2027-06-04/
LOCATION:Bürgertreff Königs Wusterhausen\, Herderstraße 8-9\, Königs Wusterhausen\, 15711
CATEGORIES:Demenz
END:VEVENT
BEGIN:VEVENT
DTSTART;TZID=Europe/Helsinki:20270604T103000
DTEND;TZID=Europe/Helsinki:20270604T113000
DTSTAMP:20260425T184721
CREATED:20250114T084749Z
LAST-MODIFIED:20250114T084749Z
UID:10005231-1812105000-1812108600@inebec.juno.wpspace.me
SUMMARY:Sportgruppe "Mit Sport dabei"
DESCRIPTION:Mehr Informationen
URL:https://inebec.juno.wpspace.me/single-event/sportgruppe-mit-sport-dabei-3/2027-06-04/
LOCATION:Bürgertreff Königs Wusterhausen\, Herderstraße 8-9\, Königs Wusterhausen\, 15711
CATEGORIES:Demenz
END:VEVENT
BEGIN:VEVENT
DTSTART;TZID=Europe/Helsinki:20270608T100000
DTEND;TZID=Europe/Helsinki:20270608T130000
DTSTAMP:20260425T184721
CREATED:20250114T084850Z
LAST-MODIFIED:20250114T084850Z
UID:10005492-1812448800-1812459600@inebec.juno.wpspace.me
SUMMARY:Betreuungsgruppe Menschen mit Demenz
DESCRIPTION:Mehr Informationen
URL:https://inebec.juno.wpspace.me/single-event/betreuungsgruppe-menschen-mit-demenz-2/2027-06-08/
LOCATION:Bürgertreff Königs Wusterhausen\, Herderstraße 8-9\, Königs Wusterhausen\, 15711
CATEGORIES:Demenz
END:VEVENT
BEGIN:VEVENT
DTSTART;TZID=Europe/Helsinki:20270611T093000
DTEND;TZID=Europe/Helsinki:20270611T103000
DTSTAMP:20260425T184721
CREATED:20250114T084740Z
LAST-MODIFIED:20250114T084741Z
UID:10004972-1812706200-1812709800@inebec.juno.wpspace.me
SUMMARY:Sportgruppe "Mit Sport dabei"
DESCRIPTION:Mehr Informationen
URL:https://inebec.juno.wpspace.me/single-event/sportgruppe-mit-sport-dabei-2-2/2027-06-11/
LOCATION:Bürgertreff Königs Wusterhausen\, Herderstraße 8-9\, Königs Wusterhausen\, 15711
CATEGORIES:Demenz
END:VEVENT
BEGIN:VEVENT
DTSTART;TZID=Europe/Helsinki:20270611T103000
DTEND;TZID=Europe/Helsinki:20270611T113000
DTSTAMP:20260425T184721
CREATED:20250114T084749Z
LAST-MODIFIED:20250114T084749Z
UID:10005232-1812709800-1812713400@inebec.juno.wpspace.me
SUMMARY:Sportgruppe "Mit Sport dabei"
DESCRIPTION:Mehr Informationen
URL:https://inebec.juno.wpspace.me/single-event/sportgruppe-mit-sport-dabei-3/2027-06-11/
LOCATION:Bürgertreff Königs Wusterhausen\, Herderstraße 8-9\, Königs Wusterhausen\, 15711
CATEGORIES:Demenz
END:VEVENT
BEGIN:VEVENT
DTSTART;TZID=Europe/Helsinki:20270615T100000
DTEND;TZID=Europe/Helsinki:20270615T130000
DTSTAMP:20260425T184721
CREATED:20250114T084850Z
LAST-MODIFIED:20250114T084850Z
UID:10005493-1813053600-1813064400@inebec.juno.wpspace.me
SUMMARY:Betreuungsgruppe Menschen mit Demenz
DESCRIPTION:Mehr Informationen
URL:https://inebec.juno.wpspace.me/single-event/betreuungsgruppe-menschen-mit-demenz-2/2027-06-15/
LOCATION:Bürgertreff Königs Wusterhausen\, Herderstraße 8-9\, Königs Wusterhausen\, 15711
CATEGORIES:Demenz
END:VEVENT
END:VCALENDAR